BEGIN:VCALENDAR
PRODID:NingEventWidget-v1
VERSION:2.0
METHOD:PUBLISH
BEGIN:VTIMEZONE
TZID:Europe/Paris
X-LIC-LOCATION:Europe/Paris
BEGIN:DAYLIGHT
TZOFFSETFROM:+0100
TZOFFSETTO:+0200
TZNAME:CEST
DTSTART:19700329T020000
RRULE:FREQ=YEARLY;BYMONTH=3;BYDAY=-1SU
END:DAYLIGHT
BEGIN:STANDARD
TZOFFSETFROM:+0200
TZOFFSETTO:+0100
TZNAME:CET
DTSTART:19701025T030000
RRULE:FREQ=YEARLY;BYMONTH=10;BYDAY=-1SU
END:STANDARD
END:VTIMEZONE
BEGIN:VEVENT
UID:2485226:Event:60383
DTSTAMP:20260420T143641Z
SUMMARY:STAGE Chant spontané, jeux de voix et écriture
DESCRIPTION:L'exploration vocale rencontre l'écriture dans une ambian
 ce bienveillante, artistique et ludique.\n\nLe chant et les jeux de vo
 ix précèdent le langage structuré, exprimant naturellement nos éta
 ts d'âme et libérant nos énergies. Le chant est naturel et ne deman
 de aucune prédisposition. Chanter c'est se regarder dans un miroir et
  s'ouvrir aux possibilités tout en prenant soin de notre humanité.\n
 \nOuvrez la bouche, entre vos lèvres et le ciel, il y a tout l'espace
  de la création...\n\nL'écriture est le reflet de l'imaginaire et de
  nos vie. Ecrire, c'est aller à la rencontre de soi et transformer le
  quotidien en une aube nouvelle. Se dire, s'inventer, décoder, s'éva
 der, se prjeter, réparer, lâcher ou simplement déposer; l'écriture
  est un lieu de tous les possibles, de tous les rendez-vous et aussi d
 e toutes les issues\n\nLe poids des mots devient un baiser tendre dép
 osé sur nos coeurs\n\nPour plus d'information, aller sur https://epan
 ews.fr/events/stage-chant-spontane-jeux-de
DTSTART;TZID=Europe/Paris:20100515T150000
DTEND;TZID=Europe/Paris:20100515T190000
CATEGORIES:34
LOCATION:Montpellier
WEBSITE:http://lalayati.over-blog.com/
URL:http://lalayati.over-blog.com/
CONTACT:06 21 80 14 21
ORGANIZER;CN=Lalayati:https://epanews.fr/profile/LEVEQUE
ATTACH;FMTTYPE="image/jpeg":http://storage.ning.com/topology/rest/1.0/
 file/get/1662300559?profile=original
ATTENDEE;ROLE=REQ-PARTICIPANT;PARTSTAT=ACCEPTED;RSVP=TRUE;CN=Lalayati:
 https://epanews.fr/profile/LEVEQUE
END:VEVENT
END:VCALENDAR
