BEGIN:VCALENDAR
PRODID:NingEventWidget-v1
VERSION:2.0
METHOD:PUBLISH
BEGIN:VTIMEZONE
TZID:Europe/Paris
X-LIC-LOCATION:Europe/Paris
BEGIN:DAYLIGHT
TZOFFSETFROM:+0100
TZOFFSETTO:+0200
TZNAME:CEST
DTSTART:19700329T020000
RRULE:FREQ=YEARLY;BYMONTH=3;BYDAY=-1SU
END:DAYLIGHT
BEGIN:STANDARD
TZOFFSETFROM:+0200
TZOFFSETTO:+0100
TZNAME:CET
DTSTART:19701025T030000
RRULE:FREQ=YEARLY;BYMONTH=10;BYDAY=-1SU
END:STANDARD
END:VTIMEZONE
BEGIN:VEVENT
UID:2485226:Event:2958193
DTSTAMP:20260422T031032Z
SUMMARY:Stage Â« Chant polyphonique traditionnel Â» (Dordogne / juille
 t 2018)
DESCRIPTION:Stage rÃ©sidentiel proposÃ© par la Compagnie A Vol d'Oisea
 u, dirigÃ© par Muriel Chiaramonti et Fransoise Simon\nDu 9 au 13 juill
 et 2018\nChants polyphoniques de tradition orale (Corse, Occitanie, It
 alie)\nMuriel propose un voyage Ã  travers les chants traditionnels de
  Corse, Italie, Occitanie. Par la polyphonie, nous souhaitons faire pa
 rtager le plaisir, voire lâ€™Ã©tonnement, de produire des chants en pa
 rfaite rÃ©sonance harmonique. La polyphonie, tout comme le rythme, est
  un vecteur de base trÃ¨s particulier et trÃ¨s fort qui rÃ©pond au bes
 oin humain dâ€™Ãªtre ensemble. L'envie de chanter en chÅ“ur est, pour 
 cette raison, le moteur essentiel. Le chant traditionnel est un voyage
  Ã  plusieurs, une communication avec corps. Il joint les voix et les 
 respirations. Ce chant vient du cÅ“ur, au-delÃ  des techniques savante
 s. Il ne sâ€™agit pas dâ€™apprendre un rÃ©pertoire mais de trouver le 
 chemin de la polyphonie, pas Ã  pas, et donc dâ€™entrer dans l'apprent
 issage d'un chant de libertÃ© oÃ¹, cependant, lâ€™union avec les autre
 s est fondamentale. Le stage vise le dÃ©veloppement des aptitudes Ã  t
 ravailler en chÅ“ur, et lâ€™approfondissement de la technique vocale i
 ndividualisÃ©e. Lâ€™objectif est dâ€™acquÃ©rir la technique et les rÃ¨
 gles de la polyphonie par une transmission orale.\nFransoise offre un 
 atelier complÃ©mentaire de prÃ©paration corporelle et vocaleÂ : mise e
 n disponibilitÃ© physique avec des Ã©chauffements inspirÃ©s du travail
  thÃ©Ã¢tral, Chi-Qong, Feldenkrais, chaÃ®nes musculaires. Ensuite vien
 t un travail sur la prÃ©sence (ancrages, respiration et souffle, corps
  sonore), et le lien entre le travail du corps et lâ€™Ã©mission vocale
 . Une attention particuliÃ¨re sera portÃ©e au plaisir de bouger, Ã  lâ
 €™Ã©coute de lâ€™autre et du groupe, et Ã  la prise de conscience de n
 otre potentiel de jeu avec lâ€™autre.\nÂ \nRenseignements et inscripti
 onsÂ : 06 86 94 77 39 / avoldoiseau@wanadoo.fr\n\nÂ \nTÃ©lÃ©chargez le
  flyer\nTÃ©lÃ©chargez le bulletin dâ€™inscription\nÂ \n\nPour plus d'i
 nformation, aller sur https://epanews.fr/events/stage-chant-polyphoniq
 ue-traditionnel-dordogne-juillet-2018
DTSTART;TZID=Europe/Paris:20180709T090000
DTEND;TZID=Europe/Paris:20180713T190000
CATEGORIES:24360
LOCATION:Les chais de la Mefreynie
WEBSITE:http://clownairlinescompany.blogspot.com/
URL:http://clownairlinescompany.blogspot.com/
CONTACT:0686947739
ORGANIZER;CN="Compagnie Ã€ VOL D'OISEAU":https://epanews.fr/profile/Co
 mpagnieAVOLDOISEAU
ATTACH;FMTTYPE="image/jpeg":http://storage.ning.com/topology/rest/1.0/
 file/get/1663739119?profile=original
ATTENDEE;ROLE=REQ-PARTICIPANT;PARTSTAT=ACCEPTED;RSVP=TRUE;CN="Compagni
 e Ã€ VOL D'OISEAU":https://epanews.fr/profile/CompagnieAVOLDOISEAU
END:VEVENT
END:VCALENDAR
