BEGIN:VCALENDAR
PRODID:NingEventWidget-v1
VERSION:2.0
METHOD:PUBLISH
BEGIN:VTIMEZONE
TZID:Europe/Paris
X-LIC-LOCATION:Europe/Paris
BEGIN:DAYLIGHT
TZOFFSETFROM:+0100
TZOFFSETTO:+0200
TZNAME:CEST
DTSTART:19700329T020000
RRULE:FREQ=YEARLY;BYMONTH=3;BYDAY=-1SU
END:DAYLIGHT
BEGIN:STANDARD
TZOFFSETFROM:+0200
TZOFFSETTO:+0100
TZNAME:CET
DTSTART:19701025T030000
RRULE:FREQ=YEARLY;BYMONTH=10;BYDAY=-1SU
END:STANDARD
END:VTIMEZONE
BEGIN:VEVENT
UID:2485226:Event:741831
DTSTAMP:20260420T231306Z
SUMMARY:Stage Chamanisme et Féminin
DESCRIPTION:La Femme Sauvage\nA vous femme, qui êtes fille, épouse, 
 mère, amante, sorcière, fée…Venez explorer le pouvoir de votre cr
 éativité et de votre intuition.C’est une invitation à vivre le po
 nt entre son intime et l'universTarif: 250€ Plus d'info ici\n\nPour 
 plus d'information, aller sur https://epanews.fr/events/stage-chamanis
 me-et-f-minin-1
DTSTART;TZID=Europe/Paris:20120601T180000
DTEND;TZID=Europe/Paris:20120603T180000
CATEGORIES:26
LOCATION:Valence
WEBSITE:
URL:
CONTACT:04 90 90 39 30
ORGANIZER;CN="Nature Conscience Chamanisme":https://epanews.fr/profile
 /NatureConscienceChamanisme
ATTACH;FMTTYPE="image/jpeg":
ATTENDEE;ROLE=REQ-PARTICIPANT;PARTSTAT=ACCEPTED;RSVP=TRUE;CN="Nature C
 onscience Chamanisme":https://epanews.fr/profile/NatureConscienceChama
 nisme
ATTENDEE;ROLE=REQ-PARTICIPANT;PARTSTAT=TENTATIVE;RSVP=TRUE;CN=caronatu
 ro:https://epanews.fr/profile/caronaturo
END:VEVENT
END:VCALENDAR
