BEGIN:VCALENDAR
PRODID:NingEventWidget-v1
VERSION:2.0
METHOD:PUBLISH
BEGIN:VTIMEZONE
TZID:Europe/Paris
X-LIC-LOCATION:Europe/Paris
BEGIN:DAYLIGHT
TZOFFSETFROM:+0100
TZOFFSETTO:+0200
TZNAME:CEST
DTSTART:19700329T020000
RRULE:FREQ=YEARLY;BYMONTH=3;BYDAY=-1SU
END:DAYLIGHT
BEGIN:STANDARD
TZOFFSETFROM:+0200
TZOFFSETTO:+0100
TZNAME:CET
DTSTART:19701025T030000
RRULE:FREQ=YEARLY;BYMONTH=10;BYDAY=-1SU
END:STANDARD
END:VTIMEZONE
BEGIN:VEVENT
UID:2485226:Event:771888
DTSTAMP:20260422T052815Z
SUMMARY:Stage chamanique cercle de femmes Filles de la Lune et de l'Ea
 u
DESCRIPTION:\"Filles de la Lune et de l 'Eau \" T.M. avec MinthÃ© Ce c
 ercle de femmes sera particuliÃ¨rement dÃ©diÃ© Ã  un travail avec les 
 Ã©nergies de Marie-Madeleine, autour de la grotte de la Sainte-Baume Ã
   Auriol (PROVENCE) Vendredi 18, samedi 19 et dimanche 20 mai 2012 (As
 cension) Le lien :\nA cette occasion, nous crÃ©erons toutes ensemble n
 os eaux de guÃ©rison ... Les Aguas Unidas appellent des femmes vers le
 s sources, les riviÃ¨res, les lacs et les mers, pour les aider ... Ces
  cercles seront une initiation pour celles qui souhaitent porter l'eau
  de la Terre MÃ¨re lÃ  oÃ¹ elle souhaite aller pour guÃ©rir ...\nMinth
 Ã© nous enseignera, avec la permission des AncÃªtres, des cÃ©rÃ©monies
 , des chants et des rituels de porteuses d'eau... Nous irons Ã  la ren
 contre de notre femme sauvage. Nous travaillerons avec l'esprit de l'a
 nimal. Trois jours en connexion et en prÃ©sence des Aguas Unidas, Eaux
  SacrÃ©es de la Terre MÃ¨re, eaux rÃ©unies de toute la planÃ¨te, eaux 
 de guÃ©rison.\nMinthÃ© est connue comme \"la Chamane de l'Eau\". Chama
 ne Wallonne, missionnaire de l'Eau, membre de \"Sisterhood of Planetar
 y Water Rites\" (les Grands-MÃ¨res de l'Eau), collaboratrice du Dr Mas
 aru Emoto en Europe, pour le \"Emoto Peace Project\", collaboratrice d
 e Mikkal, C. Michael Smith, pour \"Crows Nest Europe\". et les \" A G 
 U A S U N I D A S\" Eaux SacrÃ©es rÃ©unies de la MÃ¨re Terre http://ww
 w.aguasunidas.com/ http://lacaravanedessources.minthe.eu/\nRenseigneme
 nts et rÃ©servations auprÃ¨s d'EVA : maraleva@sunrise.ch\nRÃ©servation
 s pour les conversations avec MinthÃ© autour des Aguas Unidas pour com
 plÃ©ter en profondeur et en individuel le travail commencÃ©, auprÃ¨s d
 e Catherine : cathy07260@yahoo.com\n\nPour plus d'information, aller s
 ur https://epanews.fr/events/stage-chamanique-cercle-de-femmes-filles-
 de-la-lune-et-de-l-eau
DTSTART;TZID=Europe/Paris:20120518T180000
DTEND;TZID=Europe/Paris:20120520T190000
CATEGORIES:13
LOCATION:rÃ©gion d'Auriol
WEBSITE:http://www.aguasunidas.com
URL:http://www.aguasunidas.com
CONTACT:
ORGANIZER;CN=MinthÃ©:https://epanews.fr/profile/Minthe
ATTACH;FMTTYPE="image/jpeg":http://storage.ning.com/topology/rest/1.0/
 file/get/1662596339?profile=original
ATTENDEE;ROLE=REQ-PARTICIPANT;PARTSTAT=ACCEPTED;RSVP=TRUE;CN=caronatur
 o:https://epanews.fr/profile/caronaturo
ATTENDEE;ROLE=REQ-PARTICIPANT;PARTSTAT=ACCEPTED;RSVP=TRUE;CN=MinthÃ©:h
 ttps://epanews.fr/profile/Minthe
ATTENDEE;ROLE=REQ-PARTICIPANT;PARTSTAT=TENTATIVE;RSVP=TRUE;CN=michelle
 :https://epanews.fr/profile/rebel
END:VEVENT
END:VCALENDAR
