BEGIN:VCALENDAR
PRODID:NingEventWidget-v1
VERSION:2.0
METHOD:PUBLISH
BEGIN:VTIMEZONE
TZID:Europe/Paris
X-LIC-LOCATION:Europe/Paris
BEGIN:DAYLIGHT
TZOFFSETFROM:+0100
TZOFFSETTO:+0200
TZNAME:CEST
DTSTART:19700329T020000
RRULE:FREQ=YEARLY;BYMONTH=3;BYDAY=-1SU
END:DAYLIGHT
BEGIN:STANDARD
TZOFFSETFROM:+0200
TZOFFSETTO:+0100
TZNAME:CET
DTSTART:19701025T030000
RRULE:FREQ=YEARLY;BYMONTH=10;BYDAY=-1SU
END:STANDARD
END:VTIMEZONE
BEGIN:VEVENT
UID:2485226:Event:758600
DTSTAMP:20260423T225658Z
SUMMARY:Stage chamanique-Célébrer La Source
DESCRIPTION:Célébrer La source dans les Terres sacrée de Provence\n
 Les 20 Avril de 18h30 à 22h\n 21 Avril de 9h30 à 18h30\n22 Avril de
  9h30 à 17h30\nChez Eléonore à Marseille.\nNous célébrerons notre
  source intérieure et irons au bord de la Méditerranée célébrer l
 'eau, aisni qu'à la forêt de St Pons entendre le chant de la forêt 
 et les énergies du Féminin Divin sous les énergies de Marie Madelei
 ne\nAnimé par Kara-Alia\nCoût de cette animation 150 euros\nPour les
  précisions supplémentaires aller sur le site\nLa.source. stellaire.
 over-blog.com\n\nPour plus d'information, aller sur https://epanews.fr
 /events/stage-chamanique-c-l-brer-la-source
DTSTART;TZID=Europe/Paris:20120420T183000
DTEND;TZID=Europe/Paris:20120422T173000
CATEGORIES:13
LOCATION:Marseille
WEBSITE:http://http// la source.stellaire.over-blog.com
URL:http://http// la source.stellaire.over-blog.com
CONTACT:0475415875 ou Eléonore 06 16 57 61 99
ORGANIZER;CN=Kara-Alia:https://epanews.fr/profile/LeFevreKara
ATTACH;FMTTYPE="image/jpeg":http://storage.ning.com/topology/rest/1.0/
 file/get/1662586826?profile=original
ATTENDEE;ROLE=REQ-PARTICIPANT;PARTSTAT=ACCEPTED;RSVP=TRUE;CN=Kara-Alia
 :https://epanews.fr/profile/LeFevreKara
END:VEVENT
END:VCALENDAR
