BEGIN:VCALENDAR
PRODID:NingEventWidget-v1
VERSION:2.0
METHOD:PUBLISH
BEGIN:VTIMEZONE
TZID:Europe/Paris
X-LIC-LOCATION:Europe/Paris
BEGIN:DAYLIGHT
TZOFFSETFROM:+0100
TZOFFSETTO:+0200
TZNAME:CEST
DTSTART:19700329T020000
RRULE:FREQ=YEARLY;BYMONTH=3;BYDAY=-1SU
END:DAYLIGHT
BEGIN:STANDARD
TZOFFSETFROM:+0200
TZOFFSETTO:+0100
TZNAME:CET
DTSTART:19701025T030000
RRULE:FREQ=YEARLY;BYMONTH=10;BYDAY=-1SU
END:STANDARD
END:VTIMEZONE
BEGIN:VEVENT
UID:2485226:Event:2920498
DTSTAMP:20260422T074801Z
SUMMARY:Stage carnet de voyage à Guérande
DESCRIPTION:Des horizons qui élargissent le regard et donnent milles 
 bleues à nos pinceaux, de reflets de ciels changeants dans les saline
 s...Ruelles creuses et médievales, marchés de pays ...Toute une ambi
 ance un peu hors du temps pour ralentir entre nos pages, un vrai bain 
 de jouveance entre ciel et terre.\nDébut du stage dimanche 8 juillet 
 2018 à 15 h : installation et réunion de présentation autour d’un
  café et 1er atelier de mise en main. Sortie découverte de Guérande
  (carnet en main) !)\nFin de stage samedi 14 juillet à 13 h (repas mi
 di possible)\nChaque jour nous parcourrons cette belle région et chaq
 ue site sera l’occasion d’un ou plusieurs apprentissages : - Dess
 in : sur le vif, croquis rapides, perspectives et architectures, perso
 nnages, composition de la page.    - Couleur : mélanges, transpare
 nce, glacis, tous les verts, comment traduire l’eau, la pierre, un a
 rbre... le ciel et la profondeur de l’espace.- Autres techniques : e
 mpreinte, collage, usage d’outils incongrus, écriture, customisatio
 n du carnet, etc...    \n\nPour plus d'information, aller sur https
 ://epanews.fr/events/stage-carnet-de-voyage-gu-rande
DTSTART;TZID=Europe/Paris:20180708T110000
DTEND;TZID=Europe/Paris:20180714T190000
CATEGORIES:guerande
LOCATION:44350
WEBSITE:http://atelier-metaforme.over-blog.com/pages/Stages_France_et_
 Europe_2015-1021107.html
URL:http://atelier-metaforme.over-blog.com/pages/Stages_France_et_Euro
 pe_2015-1021107.html
CONTACT:0662256335
ORGANIZER;CN="Cecile Filliette":https://epanews.fr/profile/CecileFilli
 ette
ATTACH;FMTTYPE="image/jpeg":http://storage.ning.com/topology/rest/1.0/
 file/get/1663708537?profile=original
ATTENDEE;ROLE=REQ-PARTICIPANT;PARTSTAT=ACCEPTED;RSVP=TRUE;CN="Cecile F
 illiette":https://epanews.fr/profile/CecileFilliette
END:VEVENT
END:VCALENDAR
