BEGIN:VCALENDAR
PRODID:NingEventWidget-v1
VERSION:2.0
METHOD:PUBLISH
BEGIN:VTIMEZONE
TZID:Europe/Paris
X-LIC-LOCATION:Europe/Paris
BEGIN:DAYLIGHT
TZOFFSETFROM:+0100
TZOFFSETTO:+0200
TZNAME:CEST
DTSTART:19700329T020000
RRULE:FREQ=YEARLY;BYMONTH=3;BYDAY=-1SU
END:DAYLIGHT
BEGIN:STANDARD
TZOFFSETFROM:+0200
TZOFFSETTO:+0100
TZNAME:CET
DTSTART:19701025T030000
RRULE:FREQ=YEARLY;BYMONTH=10;BYDAY=-1SU
END:STANDARD
END:VTIMEZONE
BEGIN:VEVENT
UID:2485226:Event:1871341
DTSTAMP:20260421T181945Z
SUMMARY:Stage Bols chantants
DESCRIPTION:Date 1er semestre 2014\nLe stage se déroule sur une journ
 ée, de 9h30 à 17h30.\n \n  dimanche 27 avril\n \n      \nCon
 tenu du stage : \n \nHistorique\nLeur constitution\nComment bien cho
 isir son bol\nComment s'en servir \nEffets et bienfaits\nProtocoles d
 'utilisation \n- pour soi\n- pour les autres\n- pour les objets\n \n
 Note : Le stage porte aussi bien sur le bol tibétain que le bol de cr
 istal.\nIl est recommandé d'apporter son bol personnel si l'on en pos
 sède un.\nDétails pratiques et inscription par contact ou sur site 
 ReikiCristal\n\nPour plus d'information, aller sur https://epanews.fr/
 events/stage-bols-chantants
DTSTART;TZID=Europe/Paris:20140427T000000
DTEND;TZID=Europe/Paris:20140427T235900
CATEGORIES:34, 30, 11
LOCATION:Près Gignac - Hérault
WEBSITE:http://www.reiki-cristal.com/
URL:http://www.reiki-cristal.com/
CONTACT:
ORGANIZER;CN=ReikiGirl:https://epanews.fr/profile/ReikiGirl230
ATTACH;FMTTYPE="image/jpeg":http://storage.ning.com/topology/rest/1.0/
 file/get/1663113027?profile=original
ATTENDEE;ROLE=REQ-PARTICIPANT;PARTSTAT=ACCEPTED;RSVP=TRUE;CN=ReikiGirl
 :https://epanews.fr/profile/ReikiGirl230
END:VEVENT
END:VCALENDAR
