BEGIN:VCALENDAR
PRODID:NingEventWidget-v1
VERSION:2.0
METHOD:PUBLISH
BEGIN:VTIMEZONE
TZID:Europe/Paris
X-LIC-LOCATION:Europe/Paris
BEGIN:DAYLIGHT
TZOFFSETFROM:+0100
TZOFFSETTO:+0200
TZNAME:CEST
DTSTART:19700329T020000
RRULE:FREQ=YEARLY;BYMONTH=3;BYDAY=-1SU
END:DAYLIGHT
BEGIN:STANDARD
TZOFFSETFROM:+0200
TZOFFSETTO:+0100
TZNAME:CET
DTSTART:19701025T030000
RRULE:FREQ=YEARLY;BYMONTH=10;BYDAY=-1SU
END:STANDARD
END:VTIMEZONE
BEGIN:VEVENT
UID:2485226:Event:1373932
DTSTAMP:20260421T162020Z
SUMMARY:stage bodymindsoul arts
DESCRIPTION:Travail dâ€™harmonisation des diffÃ©rents corpsÂ :\nÂ \nÂ 
 \nCorps physiqueÂ  (perception de son propre rythme et respiration)\nC
 orps Ã©thÃ©riqueÂ  (ouverture Â Ã  de nouvelles possibilitÃ©s de soupl
 esse et vitalitÃ©)\nCorps astralÂ  (perception de son monde Ã©motionne
 l en relation Ã  lâ€™espace qui nous entoure)\nLe Moi-Nous Â (agir et 
 interagir en soi, avec lâ€™autre, et en rÃ©sonnance avec la Terre et l
 e Cosmos)\nÂ \nÂ quand ?\n\n\n\n\n\n\nVendredi 21 juin 19h30Â : Accuei
 l des participants, prÃ©paration au travail du WE\nSamedi 22 juin 2013
 Â : de 9h Ã  12h et de Â 14h Ã  17h\nDimanche 23 juin 2013Â : de 10h Ã
   13h.\n\n\nCommentÂ ?\n\n\n\n\n\nÂ \nÂ \nexercices de dÃ©tente, respi
 ration, souplesse dÃ©rivÃ©s du qi gong et tai ji quanÂ  prÃ©sentÃ©s et
  adaptÃ©s pour faciliter lâ€™approche aux personnes qui nâ€™ont pas en
 core abordÃ© le travail Â en conscience ;Â  permet aux autres Â pratiq
 uants dâ€™approfondir leur expÃ©rience.\nmÃ©ditations en statique et e
 nÂ  mouvement.\ndynamique de groupe Â (silence, Ã©coute, verbe, musiqu
 e, communicationâ€¦)\nprojets crÃ©atifs personnels et collectifs basÃ©
 s sur des rÃ©flexions et des partages.Â Â \nÂ construction de ces dern
 iers sur une annÃ©e par les participants.Â Â \n\nInfosÂ : \n\n\n\n\n\n
 tarifÂ : Â 150â‚¬ TTC\nRÃ©servation, contactÂ : Â \nÂ \nmme amrita tej
 asÂ \nÂ Â Â Â Â Â Â Â Â Â Â Â Â Â Â Â Â Â Â Â amritatejas7@gmail.com\n
 therapeute en dÃ©velopement somatique\nreiki master\nfamily constellat
 ion-therapy sistemique -formation en eurythmie\ntai ji quan et qi gong
  , etc\namour,dÃ©tente et persÃ©vÃ©rance Ã  travers le corps.\nÃ  lâ€™
 origine,instructrice en TaÃ¯ Ji Quan,Qi Gong et thÃ©rapeute en dÃ©velo
 ppementPsychosomatique,elle est actuellement en formation en Eurythmie
  en AllemagneÂ .\ncette pratique sâ€™adresse Ã  tous ceux qui souhaite
 nt prendre leur vie en mains, qui veulent participer au courant dâ€™am
 our permanent dans leur vieÂ !\n\nPour plus d'information, aller sur h
 ttps://epanews.fr/events/stage-bodymindsoul-arts
DTSTART;TZID=Europe/Paris:20130621T193000
DTEND;TZID=Europe/Paris:20130623T130000
CATEGORIES:94220
LOCATION:espace24
WEBSITE:http://www.espace24.fr
URL:http://www.espace24.fr
CONTACT:01 43 96 19 49
ORGANIZER:l'espace24
ATTACH;FMTTYPE="image/jpeg":http://storage.ning.com/topology/rest/1.0/
 file/get/1662841991?profile=original
ATTENDEE;ROLE=REQ-PARTICIPANT;PARTSTAT=ACCEPTED;RSVP=TRUE;CN=lespace24
 :https://epanews.fr/profile/lespace24
END:VEVENT
END:VCALENDAR
