BEGIN:VCALENDAR
PRODID:NingEventWidget-v1
VERSION:2.0
METHOD:PUBLISH
BEGIN:VTIMEZONE
TZID:Europe/Paris
X-LIC-LOCATION:Europe/Paris
BEGIN:DAYLIGHT
TZOFFSETFROM:+0100
TZOFFSETTO:+0200
TZNAME:CEST
DTSTART:19700329T020000
RRULE:FREQ=YEARLY;BYMONTH=3;BYDAY=-1SU
END:DAYLIGHT
BEGIN:STANDARD
TZOFFSETFROM:+0200
TZOFFSETTO:+0100
TZNAME:CET
DTSTART:19701025T030000
RRULE:FREQ=YEARLY;BYMONTH=10;BYDAY=-1SU
END:STANDARD
END:VTIMEZONE
BEGIN:VEVENT
UID:2485226:Event:187335
DTSTAMP:20260421T105729Z
SUMMARY:Stage Biodanza 
DESCRIPTION:Stage ouvert à tous\nThème: La fluidité Un chemin vers 
 le plaisir.\nFacilitatrice: Gisèle Martinez\n3 tarifs:\n1°) 30€\n2
 °)15€ pour les initiés accompagnant une connaissance désireuse de
  faire sa première expérience\n3°)Participation aux frais libre pou
 r une toute première expérience.\n-Pique nique à emmener pour parta
 ger entre les deux séances avec vos assiette et couverts de tous les 
 jours afin d'éviter le plastique jetable. Merci\n- Covoiturage à pri
 vilégier, avec votre accord, nous vous mettrons en lien. Il y a eu le
 s fois précédentes, des inscrits venant de différents départements
  limitrophes...\nSi possible pour avoir une réponse rapide, merci de 
 me contacter sur biodanza@chadansouri.org ou me téléphoner\n \n \n
 \nPour plus d'information, aller sur https://epanews.fr/events/stage-b
 iodanza
DTSTART;TZID=Europe/Paris:20110130T000000
DTEND;TZID=Europe/Paris:20110130T235900
CATEGORIES:04, 05, 06, 13, 83, 84, 26
LOCATION:CHATEAU ARNOUX
WEBSITE:http://Bâtiment de l'office du tourisme
URL:http://Bâtiment de l'office du tourisme
CONTACT:04 92 32 19 58 / 06 81 91 64 74
ORGANIZER;CN="Association Chadansouri Ariane":https://epanews.fr/profi
 le/AssociationChadansouri
ATTACH;FMTTYPE="image/jpeg":http://storage.ning.com/topology/rest/1.0/
 file/get/1662376744?profile=original
ATTENDEE;ROLE=REQ-PARTICIPANT;PARTSTAT=ACCEPTED;RSVP=TRUE;CN="arc en c
 iel":https://epanews.fr/profile/arcenciel
ATTENDEE;ROLE=REQ-PARTICIPANT;PARTSTAT=ACCEPTED;RSVP=TRUE;CN="Associat
 ion Chadansouri Ariane":https://epanews.fr/profile/AssociationChadanso
 uri
END:VEVENT
END:VCALENDAR
