BEGIN:VCALENDAR
PRODID:NingEventWidget-v1
VERSION:2.0
METHOD:PUBLISH
BEGIN:VTIMEZONE
TZID:Europe/Paris
X-LIC-LOCATION:Europe/Paris
BEGIN:DAYLIGHT
TZOFFSETFROM:+0100
TZOFFSETTO:+0200
TZNAME:CEST
DTSTART:19700329T020000
RRULE:FREQ=YEARLY;BYMONTH=3;BYDAY=-1SU
END:DAYLIGHT
BEGIN:STANDARD
TZOFFSETFROM:+0200
TZOFFSETTO:+0100
TZNAME:CET
DTSTART:19701025T030000
RRULE:FREQ=YEARLY;BYMONTH=10;BYDAY=-1SU
END:STANDARD
END:VTIMEZONE
BEGIN:VEVENT
UID:2485226:Event:660654
DTSTAMP:20260423T190415Z
SUMMARY:Stage Biodanza: \"Mon Harmonie entre Yin &Yang\"
DESCRIPTION:L'Harmonisation de notre nature Yin&Yang, ce subtil mélan
 ge en nous  permet d'entrer en relation avec soi, avec l'autre et le 
 groupe avec l'authenticité de notre nature profonde, équilibrante po
 ur la communauté. Ce sera le début du chemin vers l'écologie du viv
 re ensemble. Nous vous invitons à la découverte du Yang et de ses mu
 ltiples aspects: déterminantion, courage, action,...ainsi qu'à la re
 ncontre du Yin: capacité d'abandon, d'accueil,...\nNos vivencia sont 
 animées par notre couple afin que l'Etre puisse ressentir l'alchimie 
 de ce mélange Yin-Yang\nLe stage a lieu au Centre d'acceuil de la Jeu
 ne France de 11h à 18h\n \n\nPour plus d'information, aller sur http
 s://epanews.fr/events/stage-biodanza-mon-harmonie-entre-yin-yang
DTSTART;TZID=Europe/Paris:20120212T000000
DTEND;TZID=Europe/Paris:20120212T235900
CATEGORIES:49, maine, et, loire
LOCATION:Cholet
WEBSITE:
URL:
CONTACT:0241932316 ou 0624046474
ORGANIZER:Catherine Nicol-Hardy et Laurent Jeauneau
ATTACH;FMTTYPE="image/jpeg":
ATTENDEE;ROLE=REQ-PARTICIPANT;PARTSTAT=ACCEPTED;RSVP=TRUE;CN="Catherin
 e Nicol-Hardy":https://epanews.fr/profile/NicolHardy
END:VEVENT
END:VCALENDAR
