BEGIN:VCALENDAR
PRODID:NingEventWidget-v1
VERSION:2.0
METHOD:PUBLISH
BEGIN:VTIMEZONE
TZID:Europe/Paris
X-LIC-LOCATION:Europe/Paris
BEGIN:DAYLIGHT
TZOFFSETFROM:+0100
TZOFFSETTO:+0200
TZNAME:CEST
DTSTART:19700329T020000
RRULE:FREQ=YEARLY;BYMONTH=3;BYDAY=-1SU
END:DAYLIGHT
BEGIN:STANDARD
TZOFFSETFROM:+0200
TZOFFSETTO:+0100
TZNAME:CET
DTSTART:19701025T030000
RRULE:FREQ=YEARLY;BYMONTH=10;BYDAY=-1SU
END:STANDARD
END:VTIMEZONE
BEGIN:VEVENT
UID:2485226:Event:216024
DTSTAMP:20260423T222604Z
SUMMARY:Stage Ayurvéda - Shirobhyanga
DESCRIPTION:Venez découvrir le massage de la tête indien.\nInclus le
  toucher relaxant de la tête, visage, cou, bras et épaules. Une faç
 on efficace de détendre et d'améliorer la perception de nos 5 sens.L
 es points marmas situés sur le visage, tête et cou seront également
  enseignés.\n \nProgramme :\n\nIntroduction à l'Ayurvéda et ses pr
 incipes de base applicables dans le massage ayurvédique bien-être\nI
 mportance des 5 sens en Ayurvéda\nIntroduction aux points marmas situ
 és sur la tête, visage et cou\nPratique du Shirobhyanga\n\nTarif : 8
 0€ non-adhérent/75€ adhérent certifié\n\nPour plus d'informatio
 n, aller sur https://epanews.fr/events/stage-ayurveda-shirobhyanga
DTSTART;TZID=Europe/Paris:20110320T100000
DTEND;TZID=Europe/Paris:20110320T180000
CATEGORIES:81, 31, 12
LOCATION:Albi
WEBSITE:http://www.shaktima-ayurveda.com
URL:http://www.shaktima-ayurveda.com
CONTACT:06 27 26 69 11
ORGANIZER;CN="Association SHAKTIMA":https://epanews.fr/profile/Associa
 tionSHAKTIMA
ATTACH;FMTTYPE="image/jpeg":http://storage.ning.com/topology/rest/1.0/
 file/get/1662393323?profile=original
ATTENDEE;ROLE=REQ-PARTICIPANT;PARTSTAT=ACCEPTED;RSVP=TRUE;CN="Associat
 ion SHAKTIMA":https://epanews.fr/profile/AssociationSHAKTIMA
END:VEVENT
END:VCALENDAR
