BEGIN:VCALENDAR
PRODID:NingEventWidget-v1
VERSION:2.0
METHOD:PUBLISH
BEGIN:VTIMEZONE
TZID:Europe/Paris
X-LIC-LOCATION:Europe/Paris
BEGIN:DAYLIGHT
TZOFFSETFROM:+0100
TZOFFSETTO:+0200
TZNAME:CEST
DTSTART:19700329T020000
RRULE:FREQ=YEARLY;BYMONTH=3;BYDAY=-1SU
END:DAYLIGHT
BEGIN:STANDARD
TZOFFSETFROM:+0200
TZOFFSETTO:+0100
TZNAME:CET
DTSTART:19701025T030000
RRULE:FREQ=YEARLY;BYMONTH=10;BYDAY=-1SU
END:STANDARD
END:VTIMEZONE
BEGIN:VEVENT
UID:2485226:Event:645028
DTSTAMP:20260425T003705Z
SUMMARY:Stage avec Véronique Guérin - Le Corps et la relation : clé
 s de l'élargissement de conscience.
DESCRIPTION:LE CORPS ET LA RELATION : clés de l'élargissement de
  conscience. \n«S’incarner pleinement : les pieds dans la terre, la
  tête dans les étoiles et le cœur grand ouvert »Participation : 17
 0 € particuliers, 260 € formation professionnelle, 80 € étudian
 ts et - 30 ans. http://associationlesnouveauxmondes.com/intervenante_v
 eronique_guerin.htm\n\nPour plus d'information, aller sur https://epan
 ews.fr/events/stage-avec-v-ronique-gu-rin-le-corps-et-la-relation-cl-s
 -de-l
DTSTART;TZID=Europe/Paris:20120121T103000
DTEND;TZID=Europe/Paris:20120122T170000
CATEGORIES:13
LOCATION:Cassis
WEBSITE:http://associationlesnouveauxmondes.com/intervenante_veronique
 _guerin.htm
URL:http://associationlesnouveauxmondes.com/intervenante_veronique_gue
 rin.htm
CONTACT:
ORGANIZER:Association Les Nouveaux Mondes
ATTACH;FMTTYPE="image/jpeg":http://storage.ning.com/topology/rest/1.0/
 file/get/1662531708?profile=original
ATTENDEE;ROLE=REQ-PARTICIPANT;PARTSTAT=ACCEPTED;RSVP=TRUE;CN="Jérôme
  (Alcidejet)":https://epanews.fr/profile/Alcidejet
END:VEVENT
END:VCALENDAR
