BEGIN:VCALENDAR
PRODID:NingEventWidget-v1
VERSION:2.0
METHOD:PUBLISH
BEGIN:VTIMEZONE
TZID:Europe/Paris
X-LIC-LOCATION:Europe/Paris
BEGIN:DAYLIGHT
TZOFFSETFROM:+0100
TZOFFSETTO:+0200
TZNAME:CEST
DTSTART:19700329T020000
RRULE:FREQ=YEARLY;BYMONTH=3;BYDAY=-1SU
END:DAYLIGHT
BEGIN:STANDARD
TZOFFSETFROM:+0200
TZOFFSETTO:+0100
TZNAME:CET
DTSTART:19701025T030000
RRULE:FREQ=YEARLY;BYMONTH=10;BYDAY=-1SU
END:STANDARD
END:VTIMEZONE
BEGIN:VEVENT
UID:2485226:Event:530103
DTSTAMP:20260422T205121Z
SUMMARY:stage avec Lise BOuRBEAU \"Ecoute ton Ame\" 
DESCRIPTION:Quoi de plus captivant que de partir à la découverte de 
 son univers intérieur!  Par le biais de différents exercices, déte
 ntes dirigées et méditations, vous pourrez explorer les besoins rée
 ls de votre l'âme afin de vivre de façon plus consciente.\nprix: 345
 €\n\nPour plus d'information, aller sur https://epanews.fr/events/st
 age-avec-lise-bourbeau-ecoute-ton-ame
DTSTART;TZID=Europe/Paris:20111014T190000
DTEND;TZID=Europe/Paris:20111016T180000
CATEGORIES:34
LOCATION:Montpellier
WEBSITE:
URL:
CONTACT:04 67 24 86 08 - 06 68 30 1152
ORGANIZER:Maïthé MASSIP et Simone Lalande
ATTACH;FMTTYPE="image/jpeg":
ATTENDEE;ROLE=REQ-PARTICIPANT;PARTSTAT=ACCEPTED;RSVP=TRUE;CN="Simone L
 alande":https://epanews.fr/profile/SimoneLalande
END:VEVENT
END:VCALENDAR
