BEGIN:VCALENDAR
PRODID:NingEventWidget-v1
VERSION:2.0
METHOD:PUBLISH
BEGIN:VTIMEZONE
TZID:Europe/Paris
X-LIC-LOCATION:Europe/Paris
BEGIN:DAYLIGHT
TZOFFSETFROM:+0100
TZOFFSETTO:+0200
TZNAME:CEST
DTSTART:19700329T020000
RRULE:FREQ=YEARLY;BYMONTH=3;BYDAY=-1SU
END:DAYLIGHT
BEGIN:STANDARD
TZOFFSETFROM:+0200
TZOFFSETTO:+0100
TZNAME:CET
DTSTART:19701025T030000
RRULE:FREQ=YEARLY;BYMONTH=10;BYDAY=-1SU
END:STANDARD
END:VTIMEZONE
BEGIN:VEVENT
UID:2485226:Event:2565377
DTSTAMP:20260424T010856Z
SUMMARY:Stage ArdÃ¨che EFT et Fleurs de Bach
DESCRIPTION:LibÃ©rez-vous des Ã©motions perturbantes pour mieux gÃ©rer
  votre stress\nUn stage INÃ‰DIT alliant une MÃ©thode de psycho Ã©nergi
 e*, lâ€™EFT, et lâ€™extraordinaire pouvoir des Fleurs de Bach.\nRepren
 ons la main sur notre destinÃ©e\nBut du stage\nDÃ©finir le stress pour
  mieux le gÃ©rer.\nAttitude Ã  dÃ©velopper.\nComprendre les Ã©motions 
 et les causes de perturbations.\nAcquÃ©rir les bases pour utiliser lâ€
 ™EFT dans son quotidien.\nDÃ©couvrir plusieurs Techniques de lâ€™EFT.\
 nComprendre lâ€™intÃ©rÃªt des Fleurs de Bach.\nSavoir choisir les bonn
 es Fleurs de Bach.\nCe stage nous rÃ©vÃ¨le comment Ãªtre acteur de sa 
 vie pour la bÃ¢tir sereinement !\nMÃ©thodes\nLâ€™EFT est une qui utili
 se la stimulation des mÃ©ridiens et la verbalisation pour dissoudre le
 s Ã©motions perturbantes (peurs, dÃ©pendances, traumatismes, anxiÃ©tÃ©
 ...). Il s'agit d'une sorte d'acupuncture Ã©motionnelle sans aiguilles
 .\nCette MÃ©thode de libÃ©ration Ã©motionnelle apporte chaque jour des
  soulagements Ã  des milliers de personnes tant sur le plan psychologi
 que que sur le plan physique.\nDe nombreuses Ã©tudes attestent des bie
 nfaits de cette MÃ©thode.\nL'EFT s'adresse Ã  toute personne souhaitan
 t retrouver la maÃ®trise de son comportement en Ã©vacuant les diffÃ©re
 ntes tensions Ã©motionnelles et physiques accumulÃ©es tout au long de 
 sa vie.\nMÃ©thode douce et non traumatisante, l'EFT nous donne la libe
 rtÃ© de mettre en place tous les moyens pour gouverner notre propre de
 stinÃ©e en se sÃ©parant des vieux schÃ©mas, des anciennes croyances qu
 i nuisent Ã  notre Ã©panouissement personnel.\nL'EFT permet de vivre p
 leinement sa destinÃ©e sans Ãªtre perturbÃ© par des Ã©motions perturba
 ntes.\n\"Changer ses Croyances, c'est s'ouvrir les Portes de Tous les 
 Possibles.\" - P. Lelu\nLes Fleurs de Bach prennent en compte le corps
 , l'esprit et l'Ã©nergie, (Ã¢me), qui les relie. Elles agissent donc s
 ur les Ã©tats Ã©motionnels et sur les malaises physiques par lâ€™appor
 t dâ€™une information obtenue par la â€˜â€™solarisationâ€™â€™ des fleu
 rs dÃ©posÃ©es dans un liquide.\nChacun des Elixirs de Bach possÃ¨de sa
  propre frÃ©quence vibratoire et rÃ©sonne dans le systÃ¨me Ã©nergÃ©tiq
 ue corporel.\nLes Fleurs de Bach, grÃ¢ce Ã  leurs frÃ©quences, rÃ©Ã©qu
 ilibrent le systÃ¨me Ã©nergÃ©tique corporel, levant les blocages ou in
 versions psychologiques.\nCes Elixirs Floraux rÃ©tablissent la connexi
 on entre lâ€™Ã¢me et les corps, (physique et Ã©nergÃ©tiques appelÃ©s Ã
 ©galement aura).\nLes Fleurs de Bach sont un excellent complÃ©ment Ã  
 lâ€™EFT pour â€˜â€™dÃ©fuser les origines du stressâ€™â€™.\nDÃ©roulemen
 t du stage\nPour dÃ©marrer la journÃ©e, une mise en condition Ã©nergÃ©
 tique est pratiquÃ©e.\nLe matin nous pratiquons lâ€™EFT en bÃ©nÃ©ficia
 nt de lâ€™Ã©nergie du groupe.\nLâ€™aprÃ¨s-midi nous dÃ©couvrons les Fl
 eurs de Bach Ã  utiliser selon notre Ã©tat Ã©motionnel.\nChaque stagia
 ire dÃ©termine ses Fleurs du moment.\nA la fin du stage chacun pourra 
 utiliser lâ€™EFT dans son quotidien pour rÃ©aliser ses objectifs et se
 ra en mesure de choisir les Fleurs de Bach qui lui conviennent.\nCÃ´tÃ
 © pratique\nPenser apporter le nÃ©cessaire pour prendre des notes.\nAp
 porter une clÃ© USB pour emporter 1 dossier complet du stage.\nUne att
 estation d'initiation sera remise Ã  chaque participant.\n* La psycho 
 Ã©nergie est une branche de la psychothÃ©rapie moderne qui prend en co
 mpte lâ€™Homme dans sa globalitÃ©.\n\"Avec la psycho Ã©nergy, vous n'a
 urez pas Ã  repasser en revue toutes les expÃ©riences de votre vie, en
  quelques minutes, on peut reprogrammer une croyance dans son subconsc
 ient\"- Bruce Lipton\nTarif : 350â‚¬ le stage hors HÃ©bergement** (pen
 sion***)\n150 â‚¬ Ã  la rÃ©servation. Le solde (200â‚¬) le 1er jour de
  la formation\nLes modalitÃ©s de rÃ©servations pour l'hÃ©bergement et 
 la pension sur place vous seront fournies aprÃ¨s inscription validÃ©e 
 au stage.\n** HÃ©bergement sur le lieu ***Pension sur place :\n\nPour 
 plus d'information, aller sur https://epanews.fr/events/stage-ard-che-
 retrouver-la-confiance-en-soi-eft-fleurs-de-bach
DTSTART;TZID=Europe/Paris:20160731T170000
DTEND;TZID=Europe/Paris:20160806T140000
CATEGORIES:07
LOCATION:ARDECHE
WEBSITE:http://patricklelu.eklablog.com/stage-ardeche-retrouver-la-con
 fiance-en-soi-p985048
URL:http://patricklelu.eklablog.com/stage-ardeche-retrouver-la-confian
 ce-en-soi-p985048
CONTACT:06 14 53 08 28
ORGANIZER:Patrick Lelu EquilibreSanteÂ®
ATTACH;FMTTYPE="image/jpeg":http://storage.ning.com/topology/rest/1.0/
 file/get/1663524961?profile=original
ATTENDEE;ROLE=REQ-PARTICIPANT;PARTSTAT=ACCEPTED;RSVP=TRUE;CN="Patrick 
 Lelu":https://epanews.fr/profile/PATRICKLELU
END:VEVENT
END:VCALENDAR
