BEGIN:VCALENDAR
PRODID:NingEventWidget-v1
VERSION:2.0
METHOD:PUBLISH
BEGIN:VTIMEZONE
TZID:Europe/Paris
X-LIC-LOCATION:Europe/Paris
BEGIN:DAYLIGHT
TZOFFSETFROM:+0100
TZOFFSETTO:+0200
TZNAME:CEST
DTSTART:19700329T020000
RRULE:FREQ=YEARLY;BYMONTH=3;BYDAY=-1SU
END:DAYLIGHT
BEGIN:STANDARD
TZOFFSETFROM:+0200
TZOFFSETTO:+0100
TZNAME:CET
DTSTART:19701025T030000
RRULE:FREQ=YEARLY;BYMONTH=10;BYDAY=-1SU
END:STANDARD
END:VTIMEZONE
BEGIN:VEVENT
UID:2485226:Event:2851819
DTSTAMP:20260421T175021Z
SUMMARY:Stage: Apprendre à faire un bilan sur les bases fondamentales
  de la MTC  et décoder le pouls énergétique
DESCRIPTION:animé par Céline Hadjadj\nCette formation sur 2 jours vo
 us permettra de mettre en place le protocole le plus adapté à la per
 sonne qui vient vous voir en séance.\n\nPour plus d'information, alle
 r sur https://epanews.fr/events/stage-apprendre-faire-un-bilan-sur-les
 -bases-fondamentales-de-la
DTSTART;TZID=Europe/Paris:20170804T090000
DTEND;TZID=Europe/Paris:20170805T180000
CATEGORIES:06
LOCATION:Espace Aloha
WEBSITE:http://www.espacealoha.net
URL:http://www.espacealoha.net
CONTACT:06 25 29 51 87
ORGANIZER;CN="Espace Aloha":https://epanews.fr/profile/EspaceAloha
ATTACH;FMTTYPE="image/jpeg":
ATTENDEE;ROLE=REQ-PARTICIPANT;PARTSTAT=ACCEPTED;RSVP=TRUE;CN="Espace A
 loha":https://epanews.fr/profile/EspaceAloha
END:VEVENT
END:VCALENDAR
