BEGIN:VCALENDAR
PRODID:NingEventWidget-v1
VERSION:2.0
METHOD:PUBLISH
BEGIN:VTIMEZONE
TZID:Europe/Paris
X-LIC-LOCATION:Europe/Paris
BEGIN:DAYLIGHT
TZOFFSETFROM:+0100
TZOFFSETTO:+0200
TZNAME:CEST
DTSTART:19700329T020000
RRULE:FREQ=YEARLY;BYMONTH=3;BYDAY=-1SU
END:DAYLIGHT
BEGIN:STANDARD
TZOFFSETFROM:+0200
TZOFFSETTO:+0100
TZNAME:CET
DTSTART:19701025T030000
RRULE:FREQ=YEARLY;BYMONTH=10;BYDAY=-1SU
END:STANDARD
END:VTIMEZONE
BEGIN:VEVENT
UID:2485226:Event:244280
DTSTAMP:20260426T042259Z
SUMMARY:Stage animateur yoga du rire
DESCRIPTION:Pourquoi Devenir un Animateur AgrÃ©Ã© de Yoga du Rire?\n1.
  DÃ©couvrez\n\n\nFaites lâ€™expÃ©rience dâ€™une approche innovatrice e
 t particuliÃ¨rement rafraichissante de la gestion du stress ainsi quâ€
 ™au bien-Ãªtre physique et mental grace au rire. Il nâ€™y a aucune dif
 ficultÃ© physique. Le lien entre le Yoga et le rire est la respiration
  et une entente philosophique du monde et de la vie.  \nCette formatio
 n est 1/3 thÃ©orique et 2/3 pratique. Nous explorerons en profondeur c
 e quâ€™est lâ€™esprit du rire, comment il affecte positivement nos vie
 s, pourquoi et surtout comment ajouter plus de rire dans sa vie, Ã  la
  maison, Ã  lâ€™Ã©cole, avec les personnes agÃ©es et au travail.  \nVe
 nez dÃ©couvrir:\n5 piliers essentiels d'une session bien menÃ©e du Yog
 a du rire\nLes exercices de rire qui renforcent la santÃ© Ã©motionelle
 \nLes exercises de rire ludiques / qui renforcent la confiance en soi\
 nLes exercices de rire qui font travailler le corps\nLes exercises de 
 rire qui font travailler la tÃªte\nLes techniques de rire pour cas par
 ticulier (jeux de groupe, rire seul, avec les enfants, les personnes a
 gÃ©es, dans le monde du travail, avec les aveugles et les sourds-muets
 )\net beaucoup, beaucoup plus\n\n\n\n2. AmÃ©liorez votre santÃ©\nLe ri
 re est un exercice musculaire, une technique respiratoire, un stimulan
 t psychique qui amÃ©liore absolument toutes les fonctions du corps. Il
  constitue une porte d'entrÃ©e joyeuse vers toutes nos Ã©motions et do
 nc vers le maintien de notre santÃ©. Câ€™est une forme de mÃ©decine co
 mplÃ©mentaire particuliÃ¨rement efficace, absolument gratuite et sans 
 aucun effet secondaire!\nÂ \n3. Approfondissez\n\nVous avez dÃ©jÃ  sui
 vi une formation au Yoga du Rire? Ne manquez pas cette mise Ã  jour an
 nuelle venue dâ€™outre-Atlantique! Cette formation sera animÃ©e par SÃ
 ©bastien Gendry, un Mayennais directeur de lâ€™Ã©cole AmÃ©ricaine du Y
 oga du Rire basÃ©e Ã  Los Angeles, Californie (USA). SÃ©bastien est lâ
 €™une des figures clefs du mouvement international des clubs de rire e
 t travaille Ã©troitement avec son fondateur le Docteur Indien Madan Ka
 taria. Il forme plusieurs centaines dâ€™instructeurs du Yoga du Rire e
 n AmÃ©rique du Nord chaque annÃ©e et Ã  Ã©tÃ© le premier Ã  introduire
  cette mÃ©thode en Russie en Janvier 2008.\nLes exercices et technique
 s du rire sans raison sont le produit dâ€™une dÃ©marche crÃ©atrice en 
 Ã©volution constante (comme pour lâ€™art ils ne connaissent pas de lim
 ites). Faites le plein dâ€™idÃ©es nouvelles!\n\nTARIFS du stage :\nâ‚¬
  250 (vous Ãªtes tout seul)\n â‚¬ 225 (vous Ãªtes 2 ou plus)\n â‚¬ 195
  (Mise Ã  jour de formation -vous Ãªtes dÃ©jÃ  formÃ© au Yoga du Rire-
  et petits budgets)\nÂ \nPrix repas & hÃ©bergement\n\n\nâ‚¬70 - Demi P
 ension (2 petits dÃ©j, 2 dÃ©jeuners et 2 diners)\n â‚¬94 - Pleine Pens
 ion (2 nuits, 2 petits dÃ©j, 2 dÃ©jeuners et 2 diners)\nÂ \nÂ \n\nPour
  plus d'information, aller sur https://epanews.fr/events/stage-animate
 ur-yoga-du-rire
DTSTART;TZID=Europe/Paris:20110722T190000
DTEND;TZID=Europe/Paris:20110724T210000
CATEGORIES:50
LOCATION:Mont Saint  Michel
WEBSITE:http://www.rireenfrance.com
URL:http://www.rireenfrance.com
CONTACT:06 63 98 40 58
ORGANIZER:Ecole amÃ©ricaine du rire
ATTACH;FMTTYPE="image/jpeg":http://storage.ning.com/topology/rest/1.0/
 file/get/1662398247?profile=original
ATTENDEE;ROLE=REQ-PARTICIPANT;PARTSTAT=ACCEPTED;RSVP=TRUE;CN=AssoQuiÃ©
 tude:https://epanews.fr/profile/Quietude35
END:VEVENT
END:VCALENDAR
