BEGIN:VCALENDAR
PRODID:NingEventWidget-v1
VERSION:2.0
METHOD:PUBLISH
BEGIN:VTIMEZONE
TZID:Europe/Paris
X-LIC-LOCATION:Europe/Paris
BEGIN:DAYLIGHT
TZOFFSETFROM:+0100
TZOFFSETTO:+0200
TZNAME:CEST
DTSTART:19700329T020000
RRULE:FREQ=YEARLY;BYMONTH=3;BYDAY=-1SU
END:DAYLIGHT
BEGIN:STANDARD
TZOFFSETFROM:+0200
TZOFFSETTO:+0100
TZNAME:CET
DTSTART:19701025T030000
RRULE:FREQ=YEARLY;BYMONTH=10;BYDAY=-1SU
END:STANDARD
END:VTIMEZONE
BEGIN:VEVENT
UID:2485226:Event:1310719
DTSTAMP:20260422T014057Z
SUMMARY:Stage:\"Aller vers la confiance en soi..parce que vous valez m
 ieux que n'importe qui!\" par Thierry GAUBERT et VÃ©ronique PAULET
DESCRIPTION:Thierry Gaubert est directeur d'un Centre dâ€™Hypnose et d
 eÂ  ThÃ©rapie BrÃ¨ve et fondateur du Centre de Gestions des Emotions. 
 Ecrivain auteur de \"L'assujetti ou l'oubli de soi\" et de \"Ne triche
 z plus\" (sortie le 24 avril 2013)\nVÃ©ronique Paulet est hypnothÃ©rap
 eute et danse thÃ©rapeute\nVos ressources, vos compÃ©tences et vos qua
 litÃ©s font votre richesse, votre originalitÃ© que nous refusons bien 
 souvent de voir par manque dâ€™estime de vous...\nAlors acceptez de re
 connaÃ®tre avec humilitÃ© vos faux pas et vos faux fuyants et osez ini
 tier le changement...Â \nSans doute possÃ©dez-vous des compÃ©tences qu
 i font votreÂ  richesse, votre originalitÃ© et que vous nâ€™osez voirâ
 €¦\nReconsidÃ©rerÂ  ses valeurs câ€™est sans aucun doute reconsidÃ©rer
  la relation Ã  lâ€™autre et aux autres â€¦\nVoici quelques rÃ¨gles qu
 e nous dÃ©velopperons dans ce stage riche et vivant :\n.ReconnaÃ®tre e
 t accepter ses qualitÃ©s mais aussi ses dÃ©fauts .\n.DÃ©velopper lâ€™Ã
 ©coute de ses sens, de son corps et de son intuition\n. Identifier, ex
 primer et rÃ©guler ses Ã©motions\n. Sâ€™autoriser le droit Ã  lâ€™erre
 ur et accepter de dÃ©cevoir\n. Prendre conscience du sens quâ€™on voud
 rait donner Ã  sa vieÂ \nCe stage interactif et vivant Â est conÃ§u po
 ur offrir Ã  chacun la possibilitÃ© de recontacter sa force dâ€™action
  pour aller vers le meilleur choix pour soi, de dÃ©velopper sa crÃ©ati
 vitÃ©, son humour,dâ€™oser dÃ©passer les limites que chaque histoire p
 ersonnelle impose en retrouvant la confiance en soi et en les autres .
 \nSTAGE le samedi 29 juin de 9h30 Ã  17h30 et le dimanche 30 juin de 9
 h30 Ã  13h00\nÂ \nPrixÂ du stage : 120â‚¬ (REGLEMENT POSSIBLE EN 2 FOI
 S)\nInscriptions obligatoires (places limitÃ©es) Ã  PÃ©gase\ninfos:Â  
 http://www.gestion-emotions.com\n\nPour plus d'information, aller sur 
 https://epanews.fr/events/stage-aller-vers-la-confiance-en-soi-parce-q
 ue-vous-valez-mieux
DTSTART;TZID=Europe/Paris:20130629T093000
DTEND;TZID=Europe/Paris:20130630T130000
CATEGORIES:33, 24, 47, 40, 31
LOCATION:salle assonnance
WEBSITE:
URL:
CONTACT:0556513812
ORGANIZER;CN="Librairie PEGASE":https://epanews.fr/profile/LibrairiePE
 GASE
ATTACH;FMTTYPE="image/jpeg":http://storage.ning.com/topology/rest/1.0/
 file/get/1662813441?profile=original
ATTENDEE;ROLE=REQ-PARTICIPANT;PARTSTAT=ACCEPTED;RSVP=TRUE;CN="Librairi
 e PEGASE":https://epanews.fr/profile/LibrairiePEGASE
END:VEVENT
END:VCALENDAR
