BEGIN:VCALENDAR
PRODID:NingEventWidget-v1
VERSION:2.0
METHOD:PUBLISH
BEGIN:VTIMEZONE
TZID:Europe/Paris
X-LIC-LOCATION:Europe/Paris
BEGIN:DAYLIGHT
TZOFFSETFROM:+0100
TZOFFSETTO:+0200
TZNAME:CEST
DTSTART:19700329T020000
RRULE:FREQ=YEARLY;BYMONTH=3;BYDAY=-1SU
END:DAYLIGHT
BEGIN:STANDARD
TZOFFSETFROM:+0200
TZOFFSETTO:+0100
TZNAME:CET
DTSTART:19701025T030000
RRULE:FREQ=YEARLY;BYMONTH=10;BYDAY=-1SU
END:STANDARD
END:VTIMEZONE
BEGIN:VEVENT
UID:2485226:Event:47137
DTSTAMP:20260419T213708Z
SUMMARY:Stage adulte sculpture-volume à l'association atelier Art Viv
 ant
DESCRIPTION:Stage de sculpture adulte à l'atelier art vivant en week 
 end sur 2 matinées.\n\"le masque\" Fabrication d'un masque à partir 
 d'une sculpture des arts premiers. Technique : Construction et assembl
 age en carton, apporter des cartons d'emballage.\nSamedi 8 et dimanche
  9 mai 2010 de 9 h 30 à 13 h\ntarif: 54 € , chèque à envoyer à l
 'association Atelier Art Vivant 21 chemin des oliviers 30400 villeneuv
 e les avignon à l'ordre de l'atelier art vivant , tel: 04 90 25 27 16
 \n\nPour plus d'information, aller sur https://epanews.fr/events/stage
 -adulte-sculpturevolume-a
DTSTART;TZID=Europe/Paris:20100508T091500
DTEND;TZID=Europe/Paris:20100508T124500
CATEGORIES:30
LOCATION:atelier art vivant 21 chemin des oliviers 30400 Villeneuve le
 s avignon
WEBSITE:
URL:
CONTACT:
ORGANIZER;CN="association atelier art vivant":https://epanews.fr/profi
 le/associationatelierartvivant
ATTACH;FMTTYPE="image/jpeg":http://storage.ning.com/topology/rest/1.0/
 file/get/1662294042?profile=original
ATTENDEE;ROLE=REQ-PARTICIPANT;PARTSTAT=ACCEPTED;RSVP=TRUE;CN="associat
 ion atelier art vivant":https://epanews.fr/profile/associationateliera
 rtvivant
END:VEVENT
END:VCALENDAR
