BEGIN:VCALENDAR
PRODID:NingEventWidget-v1
VERSION:2.0
METHOD:PUBLISH
BEGIN:VTIMEZONE
TZID:Europe/Paris
X-LIC-LOCATION:Europe/Paris
BEGIN:DAYLIGHT
TZOFFSETFROM:+0100
TZOFFSETTO:+0200
TZNAME:CEST
DTSTART:19700329T020000
RRULE:FREQ=YEARLY;BYMONTH=3;BYDAY=-1SU
END:DAYLIGHT
BEGIN:STANDARD
TZOFFSETFROM:+0200
TZOFFSETTO:+0100
TZNAME:CET
DTSTART:19701025T030000
RRULE:FREQ=YEARLY;BYMONTH=10;BYDAY=-1SU
END:STANDARD
END:VTIMEZONE
BEGIN:VEVENT
UID:2485226:Event:154473
DTSTAMP:20260419T221332Z
SUMMARY:Stage à la journée: chant vibratoire, son, énergies, bols d
 e cristal \"Sacrée Voix, Voix Sacrée\" au centre Bouddhiste Tibétai
 n dans l'Orne
DESCRIPTION:\n\nStage à la journée\n\"Sacrée Voix, Voix Sacrée\"\n
 au centre Bouddhiste Tibétain\ndans l'orne (61)\n\nLe son, la voix, l
 a vibration:\nTravail avec le chant, la voix\négalement avec des inst
 ruments de musiques vibratoires:\nbols de cristal,\ntambour chamanique
 ,\nmétallophone,\nsanzula,\ntambour d'eau...\n\nNous profiterons de l
 a belle énergie du lieu pour notre travail et nous aurons la chance d
 e pouvoir avoir au cours de ces journées des temps de chant et de mé
 ditations\ndans la stoupa et dans le moulin à prières.\n\nChaque sé
 ance commencera avec un travail de détente et d'ouverture du corps, p
 ar des échauffements, des exercices d'enracinement, des massages par 
 le son.\n\nJe vous proposerais d'expérimenter différentes voies\npou
 r effectuer un travail de libération des blocages et des mémoires, d
 'ouvrir les voies d'accès à votre voix\n\n\n.\n\nPour plus d'informa
 tion, aller sur https://epanews.fr/events/stage-a-la-journee-chant
DTSTART;TZID=Europe/Paris:20101121T000000
DTEND;TZID=Europe/Paris:20101121T235900
CATEGORIES:14
LOCATION:Centre de  Bouddhisme Tibétain. Dachang Vajradhara-Ling
WEBSITE:
URL:
CONTACT:
ORGANIZER;CN="Gaëlle Mariziah":https://epanews.fr/profile/GaelleMariz
 iah
ATTACH;FMTTYPE="image/jpeg":
ATTENDEE;ROLE=REQ-PARTICIPANT;PARTSTAT=ACCEPTED;RSVP=TRUE;CN="Gaëlle 
 Mariziah":https://epanews.fr/profile/GaelleMariziah
END:VEVENT
END:VCALENDAR
