BEGIN:VCALENDAR
PRODID:NingEventWidget-v1
VERSION:2.0
METHOD:PUBLISH
BEGIN:VTIMEZONE
TZID:Europe/Paris
X-LIC-LOCATION:Europe/Paris
BEGIN:DAYLIGHT
TZOFFSETFROM:+0100
TZOFFSETTO:+0200
TZNAME:CEST
DTSTART:19700329T020000
RRULE:FREQ=YEARLY;BYMONTH=3;BYDAY=-1SU
END:DAYLIGHT
BEGIN:STANDARD
TZOFFSETFROM:+0200
TZOFFSETTO:+0100
TZNAME:CET
DTSTART:19701025T030000
RRULE:FREQ=YEARLY;BYMONTH=10;BYDAY=-1SU
END:STANDARD
END:VTIMEZONE
BEGIN:VEVENT
UID:2485226:Event:58439
DTSTAMP:20260420T114437Z
SUMMARY:Stage
DESCRIPTION:Stage 1er niveau avec le Vedanã Yoga et la communication 
 en interaction\n\nSamedi après-midi et dimanche\n14h15 à 17h et de 1
 0h à 12h et de 13h30 à 15h 30\nOBJECTIFS:\nCanaliser le mental dans 
 l'ici et maintanant\nInstaurer la communication en interaction\nAppren
 dre les mécanismes mentaux\nLibérer les tensions physiques et psychi
 ques\n\nPour plus d'information, aller sur https://epanews.fr/events/s
 tage-2
DTSTART;TZID=Europe/Paris:20100515T021500
DTEND;TZID=Europe/Paris:20100515T170000
CATEGORIES:34
LOCATION:ESPACE BHÃVANÃ
WEBSITE:http://www.somatotherapie.info
URL:http://www.somatotherapie.info
CONTACT:06 18 44 45 03
ORGANIZER;CN="Association ESPACE BHÃVANÃ":https://epanews.fr/profile
 /AssociationESPACEBHAVANA
ATTACH;FMTTYPE="image/jpeg":
ATTENDEE;ROLE=REQ-PARTICIPANT;PARTSTAT=ACCEPTED;RSVP=TRUE;CN="Associat
 ion ESPACE BHÃVANÃ":https://epanews.fr/profile/AssociationESPACEBHAV
 ANA
END:VEVENT
END:VCALENDAR
