BEGIN:VCALENDAR
PRODID:NingEventWidget-v1
VERSION:2.0
METHOD:PUBLISH
BEGIN:VTIMEZONE
TZID:Europe/Paris
X-LIC-LOCATION:Europe/Paris
BEGIN:DAYLIGHT
TZOFFSETFROM:+0100
TZOFFSETTO:+0200
TZNAME:CEST
DTSTART:19700329T020000
RRULE:FREQ=YEARLY;BYMONTH=3;BYDAY=-1SU
END:DAYLIGHT
BEGIN:STANDARD
TZOFFSETFROM:+0200
TZOFFSETTO:+0100
TZNAME:CET
DTSTART:19701025T030000
RRULE:FREQ=YEARLY;BYMONTH=10;BYDAY=-1SU
END:STANDARD
END:VTIMEZONE
BEGIN:VEVENT
UID:2485226:Event:31627
DTSTAMP:20260420T114435Z
SUMMARY:STAGE 1er NIVEAU
DESCRIPTION:Stage 1er niveau: La Conduite en Conscience avec le VedanÃ
 £ Yoga:\nGÃ©rer l'Ã©motionnel dans la vie quotidienne - Apprendre Ã  c
 ontrÃ´ler les mÃ©canismes mentaux - Instaurer la communication en inte
 raction - Canaliser son mental par la MÃ©ditation attentive.\n\nPour p
 lus d'information, aller sur https://epanews.fr/events/stage-1er-nivea
 u
DTSTART;TZID=Europe/Paris:20100220T000000
DTEND;TZID=Europe/Paris:20100221T235900
CATEGORIES:34
LOCATION:ESPACE BHÃƒVANÃƒ
WEBSITE:http://www.somatotherapie.info
URL:http://www.somatotherapie.info
CONTACT:06 18 44 45 03
ORGANIZER;CN="Association ESPACE BHÃƒVANÃƒ":https://epanews.fr/profile
 /AssociationESPACEBHAVANA
ATTACH;FMTTYPE="image/jpeg":http://storage.ning.com/topology/rest/1.0/
 file/get/1662287669?profile=original
ATTENDEE;ROLE=REQ-PARTICIPANT;PARTSTAT=ACCEPTED;RSVP=TRUE;CN="Associat
 ion ESPACE BHÃƒVANÃƒ":https://epanews.fr/profile/AssociationESPACEBHAV
 ANA
END:VEVENT
END:VCALENDAR
