BEGIN:VCALENDAR
PRODID:NingEventWidget-v1
VERSION:2.0
METHOD:PUBLISH
BEGIN:VTIMEZONE
TZID:Europe/Paris
X-LIC-LOCATION:Europe/Paris
BEGIN:DAYLIGHT
TZOFFSETFROM:+0100
TZOFFSETTO:+0200
TZNAME:CEST
DTSTART:19700329T020000
RRULE:FREQ=YEARLY;BYMONTH=3;BYDAY=-1SU
END:DAYLIGHT
BEGIN:STANDARD
TZOFFSETFROM:+0200
TZOFFSETTO:+0100
TZNAME:CET
DTSTART:19701025T030000
RRULE:FREQ=YEARLY;BYMONTH=10;BYDAY=-1SU
END:STANDARD
END:VTIMEZONE
BEGIN:VEVENT
UID:2485226:Event:725209
DTSTAMP:20260422T045419Z
SUMMARY:Spiritual Concert sur Paris par le sonothérapeute François B
 rulé
DESCRIPTION:A partir d'un gong, d'un tambour, de bols tibétains , de 
 tubes résonnants et de sa voix, le sonothérapeute François Brulé v
 ous emmène au plus profond de vous même pendant plus d'une heure...\
 nDe cet espace hors du temps, vous ressortirez en ayant laissé des ba
 gages encombrants et vous repartirez le cœur léger, grâce à la Joi
 e véhiculée par le Son\nLe thème de ce soir est \"se relier à Soi\
 "\nParticipation:25€\ndemander le code d'entrée\n\nPour plus d'info
 rmation, aller sur https://epanews.fr/events/spiritual-concert
DTSTART;TZID=Europe/Paris:20120316T200000
DTEND;TZID=Europe/Paris:20120316T220000
CATEGORIES:75
LOCATION:Paris
WEBSITE:
URL:
CONTACT:0624898398
ORGANIZER:François Brulé
ATTACH;FMTTYPE="image/jpeg":http://storage.ning.com/topology/rest/1.0/
 file/get/1662572321?profile=original
ATTENDEE;ROLE=REQ-PARTICIPANT;PARTSTAT=ACCEPTED;RSVP=TRUE;CN=François
 :https://epanews.fr/profile/Francois796
END:VEVENT
END:VCALENDAR
