BEGIN:VCALENDAR
PRODID:NingEventWidget-v1
VERSION:2.0
METHOD:PUBLISH
BEGIN:VTIMEZONE
TZID:Europe/Paris
X-LIC-LOCATION:Europe/Paris
BEGIN:DAYLIGHT
TZOFFSETFROM:+0100
TZOFFSETTO:+0200
TZNAME:CEST
DTSTART:19700329T020000
RRULE:FREQ=YEARLY;BYMONTH=3;BYDAY=-1SU
END:DAYLIGHT
BEGIN:STANDARD
TZOFFSETFROM:+0200
TZOFFSETTO:+0100
TZNAME:CET
DTSTART:19701025T030000
RRULE:FREQ=YEARLY;BYMONTH=10;BYDAY=-1SU
END:STANDARD
END:VTIMEZONE
BEGIN:VEVENT
UID:2485226:Event:1065695
DTSTAMP:20260423T080336Z
SUMMARY:Stage Spinoza Une autre vision du monde, Une autre vision de s
 oi
DESCRIPTION:Nous avons tous besoin d'apaiser nos tensions, d'élatgir 
 notre compréhension, d'accéder au bonheur pour nous mêmes et pour l
 es autres.\nJacques Thomas et pascale Fousse vous proposent une rencon
 tre où la philosophie de Spinoza et la physique quantique et la conna
 issance du corps srevent une conception unifiée de l'être et de la n
 ature.\nPour plus d'info cliquez ici Stage spinoza une autre vision\n
 \nPour plus d'information, aller sur https://epanews.fr/events/spinoza
 -une-autre-viion-du-monde-une-autre-vision-de-soi
DTSTART;TZID=Europe/Paris:20130202T000000
DTEND;TZID=Europe/Paris:20130203T235900
CATEGORIES:tous
LOCATION:Maison d'hôtes et de ressourcement La Source dorée
WEBSITE:http://http//www.la-source-doree.fr
URL:http://http//www.la-source-doree.fr
CONTACT:0660676771
ORGANIZER:Pascal Fousse et Jacques Thomas
ATTACH;FMTTYPE="image/jpeg":http://storage.ning.com/topology/rest/1.0/
 file/get/1662715385?profile=original
ATTENDEE;ROLE=REQ-PARTICIPANT;PARTSTAT=ACCEPTED;RSVP=TRUE;CN="la sourc
 e doree":https://epanews.fr/profile/lasourcedoree
END:VEVENT
END:VCALENDAR
