BEGIN:VCALENDAR
PRODID:NingEventWidget-v1
VERSION:2.0
METHOD:PUBLISH
BEGIN:VTIMEZONE
TZID:Europe/Paris
X-LIC-LOCATION:Europe/Paris
BEGIN:DAYLIGHT
TZOFFSETFROM:+0100
TZOFFSETTO:+0200
TZNAME:CEST
DTSTART:19700329T020000
RRULE:FREQ=YEARLY;BYMONTH=3;BYDAY=-1SU
END:DAYLIGHT
BEGIN:STANDARD
TZOFFSETFROM:+0200
TZOFFSETTO:+0100
TZNAME:CET
DTSTART:19701025T030000
RRULE:FREQ=YEARLY;BYMONTH=10;BYDAY=-1SU
END:STANDARD
END:VTIMEZONE
BEGIN:VEVENT
UID:2485226:Event:2933026
DTSTAMP:20260425T014220Z
SUMMARY:spécial amour; chercher son animal-âme-soeur
DESCRIPTION:Pour la Saint Va-Lent-Thym  une soirée TANTRA et  Chama
 nisme/\nVenez réveillez votre instinct et expérimentez les ANIMAUX T
 OTEMS pour cherche r (rt trouver ?)le votre et celui de votre Ame-Soeu
 r..\nNous ferons une petite préparation pour être disponible avec so
 i et les autres , puis des rencontres tantriques avec des techniques d
 es cinq sens  , des danses, des expériences avec différents hommes 
 ou femmes.\nS 'éveiller à la magie du visible et de l'un-visible..pa
 r lavoie du  \"sentir\"(luis Ansa  édition le Relié)\nouvert aux s
 oli-terre et aux cou-ples\nA Mercredi\nParticipation:40e   30e par p
 ersonne en venant à 2\nApportez un plat et une boisson a partager\nin
 scription sur le site http://daniel-labille-massage.fr\n\nPour plus d'
 information, aller sur https://epanews.fr/events/sp-cial-amour-cherche
 z-l-animal-totem-de-votre-ame-soeur
DTSTART;TZID=Europe/Paris:20180214T193000
DTEND;TZID=Europe/Paris:20180214T220000
CATEGORIES:75
LOCATION:le petit paradis
WEBSITE:
URL:
CONTACT:06 16 43 16 49
ORGANIZER;CN="daniel labille":https://epanews.fr/profile/daniellabille
 505
ATTACH;FMTTYPE="image/jpeg":http://storage.ning.com/topology/rest/1.0/
 file/get/1663719219?profile=original
ATTENDEE;ROLE=REQ-PARTICIPANT;PARTSTAT=ACCEPTED;RSVP=TRUE;CN="daniel l
 abille":https://epanews.fr/profile/daniellabille505
END:VEVENT
END:VCALENDAR
