BEGIN:VCALENDAR
PRODID:NingEventWidget-v1
VERSION:2.0
METHOD:PUBLISH
BEGIN:VTIMEZONE
TZID:Europe/Paris
X-LIC-LOCATION:Europe/Paris
BEGIN:DAYLIGHT
TZOFFSETFROM:+0100
TZOFFSETTO:+0200
TZNAME:CEST
DTSTART:19700329T020000
RRULE:FREQ=YEARLY;BYMONTH=3;BYDAY=-1SU
END:DAYLIGHT
BEGIN:STANDARD
TZOFFSETFROM:+0200
TZOFFSETTO:+0100
TZNAME:CET
DTSTART:19701025T030000
RRULE:FREQ=YEARLY;BYMONTH=10;BYDAY=-1SU
END:STANDARD
END:VTIMEZONE
BEGIN:VEVENT
UID:2485226:Event:528670
DTSTAMP:20260422T211254Z
SUMMARY:Sous le signe de l'Etoile 
DESCRIPTION:Sous le signe\nde l'ETOILE\n\n\nCrète Eternelle\nDu 10 au
  17 Octobre 2011\n\nSur la Terre des déesses\net des dieux,\nJ’ench
 ante ma Vie\nBain de Sons, de couleurs, de senteurs,\nRemise en forme 
 et quête intérieure.\nApprivoiser l’Amour de Soi, Recueillir sa be
 auté intérieure, s' aimer et rayonner\n\nBienvenue à ceux qui pense
 nt chanter faux\nVol + l’hôtel**** avec Spa en demi pension et cham
 bre double + animation Coût total : 890 €\nSupplément single 150 
 €. \n\n\nhttp://mille.et.une.voix.online.fr/html/stageautomne.htm\n
 \n\n\n\n\n\n\n\n\n\n\n\nPour plus d'information, aller sur https://epa
 news.fr/events/sous-le-signe-de-l-etoile
DTSTART;TZID=Europe/Paris:20111010T120000
DTEND;TZID=Europe/Paris:20111017T120000
CATEGORIES:tous
LOCATION:ELOUNDA
WEBSITE:http://www.eloundabluebay.gr
URL:http://www.eloundabluebay.gr
CONTACT:01 47 00 93 00 - 06 73 65 60 18 - ishah@free.fr
ORGANIZER:Anne Ghodbane Richard - www.milleetunevoix.com
ATTACH;FMTTYPE="image/jpeg":http://storage.ning.com/topology/rest/1.0/
 file/get/1662460324?profile=original
ATTENDEE;ROLE=REQ-PARTICIPANT;PARTSTAT=ACCEPTED;RSVP=TRUE;CN="Anne Gho
 dbane Richard":https://epanews.fr/profile/AnneGhodbaneRichard
END:VEVENT
END:VCALENDAR
