BEGIN:VCALENDAR
PRODID:NingEventWidget-v1
VERSION:2.0
METHOD:PUBLISH
BEGIN:VTIMEZONE
TZID:Europe/Paris
X-LIC-LOCATION:Europe/Paris
BEGIN:DAYLIGHT
TZOFFSETFROM:+0100
TZOFFSETTO:+0200
TZNAME:CEST
DTSTART:19700329T020000
RRULE:FREQ=YEARLY;BYMONTH=3;BYDAY=-1SU
END:DAYLIGHT
BEGIN:STANDARD
TZOFFSETFROM:+0200
TZOFFSETTO:+0100
TZNAME:CET
DTSTART:19701025T030000
RRULE:FREQ=YEARLY;BYMONTH=10;BYDAY=-1SU
END:STANDARD
END:VTIMEZONE
BEGIN:VEVENT
UID:2485226:Event:2837652
DTSTAMP:20260420T112553Z
SUMMARY:Sourialavie
DESCRIPTION:Atelier Massage MÃ©tamorphose : La libÃ©ration parent-enfa
 nt\nPar le Massage mÃ©tamorphose, apprenez Ã  libÃ©rer votre bÃ©bÃ©, d
 Ã¨s la naissance mais aussi vos enfants plus grands, Ados et Ãªtres ai
 mÃ©s quel que soit leur Ã¢ge.Par un massage des Zones rÃ©flexes de la 
 colonne vertÃ©brale (pieds, mains, tÃªte) Ã©liminez le stress, les cro
 yances limitatives, les chocs Ã©motionnels et autres vÃ©cus qui vous e
 mpÃªchent d'Ãªtre pleinement vous-mÃªme, reliÃ©s Ã  votre plein potent
 iel.Cette technique de travail permet dâ€™Ãªtre totalement ce que nous
  sommes, dâ€™entrer en rÃ©sonance avec notre Ãªtre vÃ©ritable.La trans
 formation peut sâ€™exprimer au niveau physique, Ã©motionnel ou de chan
 gements dans lâ€™environnement social ou familialCette libÃ©ration se 
 fait sans effort, inconsciemment, naturellement etautomatiquement.D'un
  point de Vue pratique, ThÃ©orie le matin, travail par deux l'aprÃ¨s m
 idi pour apprendre Ã  donner et recevoir car, avant de travailler sur 
 nos enfants pour les libÃ©rer, il est d'abord important de prendre soi
 n de nous...A la fin de cette journÃ©e, vous serez capable d'utiliser 
 cette technique de libÃ©ration avec votre enfant, dÃ¨s la naissance ma
 is aussi votre partenaire de vie, vos amis...Vous recevrez en plus un 
 bonus vous permettant de travailler sur les Ã©motions perturbatrices t
 elle que colÃ¨re, tristesse, peur...Vous serez capable de vous protÃ©g
 er avant de donner un soin ou d'aller travailler, vous apprendrez Ã  Ã
 ªtre plus Ã  l'Ã©coute de vos messages intÃ©rieurs pour plus de bien-Ã
 ªtrePrix de la journÃ©e : 100â‚¬Â Inscription viaÂ Mon siteÂ www.souri
 alavie.com\n\nPour plus d'information, aller sur https://epanews.fr/ev
 ents/sourialavie
DTSTART;TZID=Europe/Paris:20170618T094500
DTEND;TZID=Europe/Paris:20170618T173000
CATEGORIES:belgique
LOCATION:rue de la cortaille,68 Ã  6800 freux (Libramont)
WEBSITE:
URL:
CONTACT:
ORGANIZER;CN=Sourialavie:https://epanews.fr/profile/Sourialavie
ATTACH;FMTTYPE="image/jpeg":http://storage.ning.com/topology/rest/1.0/
 file/get/1663672443?profile=original
ATTENDEE;ROLE=REQ-PARTICIPANT;PARTSTAT=ACCEPTED;RSVP=TRUE;CN=Sourialav
 ie:https://epanews.fr/profile/Sourialavie
END:VEVENT
END:VCALENDAR
