BEGIN:VCALENDAR
PRODID:NingEventWidget-v1
VERSION:2.0
METHOD:PUBLISH
BEGIN:VTIMEZONE
TZID:Europe/Paris
X-LIC-LOCATION:Europe/Paris
BEGIN:DAYLIGHT
TZOFFSETFROM:+0100
TZOFFSETTO:+0200
TZNAME:CEST
DTSTART:19700329T020000
RRULE:FREQ=YEARLY;BYMONTH=3;BYDAY=-1SU
END:DAYLIGHT
BEGIN:STANDARD
TZOFFSETFROM:+0200
TZOFFSETTO:+0100
TZNAME:CET
DTSTART:19701025T030000
RRULE:FREQ=YEARLY;BYMONTH=10;BYDAY=-1SU
END:STANDARD
END:VTIMEZONE
BEGIN:VEVENT
UID:2485226:Event:905803
DTSTAMP:20260421T202237Z
SUMMARY:Souffle de vie, Rebirth en eau chaude
DESCRIPTION:Le Rebirth est une pratique de respiration en conscience q
 ui révèle notre nature essentielle en libérant le corps des mémoir
 es inscrites par les épreuves de vie. C’est un processus puissant e
 t simple, célébrant notre alliance de corps, de conscience et de cœ
 ur.\nLa respiration en eau chaude amplifie et affine les sensations du
  moment présent. L’expérience de la relation profonde avec soi-mê
 me permet la délivrance.\nLa journée débute sur la plage, par un te
 mps de contact avec soi, à l’écoute des éléments, en lien avec l
 es êtres et un partage en cercle.\nL’après–midi est consacrée
  au Rebirth en eau chaude, à la rencontre de soi et de l’autre.\nLe
  samedi 15 septembre 2012\nA Agde\nDe 10 heures à 18 heures\nTarif
  70 € (facilité de paiement possible)\nUn repas léger, tiré du sa
 c à partager\nCo-animation :\nJessica ALFON : Médecin, thérapeute, 
 hypno-thérapeute\nChristophe MOULIER : psycho-praticien, analyste de
  rêves\n \n\nPour plus d'information, aller sur https://epanews.fr/e
 vents/souffle-de-vie-rebirth-en-eau-chaude-3
DTSTART;TZID=Europe/Paris:20120915T000000
DTEND;TZID=Europe/Paris:20120915T235900
CATEGORIES:34
LOCATION:agde
WEBSITE:http://christophemoulier.voila.net
URL:http://christophemoulier.voila.net
CONTACT:0612040203
ORGANIZER:Jessica ALFON et Christophe MOULIER
ATTACH;FMTTYPE="image/jpeg":http://storage.ning.com/topology/rest/1.0/
 file/get/1662535493?profile=original
ATTENDEE;ROLE=REQ-PARTICIPANT;PARTSTAT=ACCEPTED;RSVP=TRUE;CN=Jessica:h
 ttps://epanews.fr/profile/Jessica
END:VEVENT
END:VCALENDAR
