BEGIN:VCALENDAR
PRODID:NingEventWidget-v1
VERSION:2.0
METHOD:PUBLISH
BEGIN:VTIMEZONE
TZID:Europe/Paris
X-LIC-LOCATION:Europe/Paris
BEGIN:DAYLIGHT
TZOFFSETFROM:+0100
TZOFFSETTO:+0200
TZNAME:CEST
DTSTART:19700329T020000
RRULE:FREQ=YEARLY;BYMONTH=3;BYDAY=-1SU
END:DAYLIGHT
BEGIN:STANDARD
TZOFFSETFROM:+0200
TZOFFSETTO:+0100
TZNAME:CET
DTSTART:19701025T030000
RRULE:FREQ=YEARLY;BYMONTH=10;BYDAY=-1SU
END:STANDARD
END:VTIMEZONE
BEGIN:VEVENT
UID:2485226:Event:1097663
DTSTAMP:20260422T152145Z
SUMMARY:Sortie Nature : visite d'un lac souterrain en Sud Sainte-Baume
DESCRIPTION:Je vous propose la visite d'un lac souterrain (-33m) en Su
 d-Sainte-Baume.\n(SORTIE GRATUITE)\nOn accède à une grotte ouvrant s
 ur plusieurs salles, puis par un toboggan (boue) à un \"chaos\" roche
 ux (empilement de blocs) au travers duquel on chemine jusqu'à une pre
 mière salle et à une seconde (petit lac baignant des colonnes rocheu
 ses).\nPour ceux qui veulent, on peut méditer un peu dans le silence,
  au bord du lac.\nOn apprécie le soleil quand on remonte, on redécou
 vre les fleurs.\n:)\nPrévoir :\n- chaussures adaptées (de montagne o
 u baskets) avec des chaussettes chaudes\n- bonnet (ça évite de se co
 gner la tête et ça tient chaud\n- vêtements adaptés (qui reviendro
 nt avec de la boue partout, direction la machine à laver). Le treilli
 s est idéal.\n- une lampe frontale, rempli avec des piles neuves ET d
 es piles de rechange.\n- une lampe de rechange (si la première vous l
 aisse en rade)\n- un petit sac à dos qui tienne bien (ne glisse pas)\
 n- vos médicaments habituels si vous en avez, éventuellement une (pe
 tite) trousse de secours sommaire (élastoplast, huile essentielle de 
 ciste, huile essentielle hélichryse, huile essentielle de lavande asp
 ic, huile essentielle ravintsara, petits pansements, stéristrip)\n- s
 i vous pouvez des cyalums (bâtons lumineux : on en trouve chez Décat
 hlon) avec un peu de corde fine d'escalade (pour les accrocher aux sta
 lactites : on en trouve chez Décathlon aussi)\n- un canif\n- un pique
 -nique de midi, de quoi boire, un thermos si vous voulez...\n\n(Vous s
 erez accompagné d'un garde-nature, mais cette sortie s'effectue sous 
 votre propre responsabilité)\n\nPour plus d'information, aller sur ht
 tps://epanews.fr/events/sortie-nature-visite-d-un-lac-souterrain-en-su
 d-sainte-baume
DTSTART;TZID=Europe/Paris:20130113T000000
DTEND;TZID=Europe/Paris:20130113T235900
CATEGORIES:13, 83
LOCATION:à proximité du Camp du Castellet - départ de La Ciotat en 
 covoiturage
WEBSITE:
URL:
CONTACT:
ORGANIZER;CN=Daimyo:https://epanews.fr/profile/Ghilwen
ATTACH;FMTTYPE="image/jpeg":http://storage.ning.com/topology/rest/1.0/
 file/get/1662730463?profile=original
ATTENDEE;ROLE=REQ-PARTICIPANT;PARTSTAT=ACCEPTED;RSVP=TRUE;CN=véro:htt
 ps://epanews.fr/profile/vero750
ATTENDEE;ROLE=REQ-PARTICIPANT;PARTSTAT=ACCEPTED;RSVP=TRUE;CN=Daimyo:ht
 tps://epanews.fr/profile/Ghilwen
ATTENDEE;ROLE=REQ-PARTICIPANT;PARTSTAT=TENTATIVE;RSVP=TRUE;CN="Cyril  
  Hypnose Hyères":https://epanews.fr/profile/Hyeres_Hypnose
END:VEVENT
END:VCALENDAR
