BEGIN:VCALENDAR
PRODID:NingEventWidget-v1
VERSION:2.0
METHOD:PUBLISH
BEGIN:VTIMEZONE
TZID:Europe/Paris
X-LIC-LOCATION:Europe/Paris
BEGIN:DAYLIGHT
TZOFFSETFROM:+0100
TZOFFSETTO:+0200
TZNAME:CEST
DTSTART:19700329T020000
RRULE:FREQ=YEARLY;BYMONTH=3;BYDAY=-1SU
END:DAYLIGHT
BEGIN:STANDARD
TZOFFSETFROM:+0200
TZOFFSETTO:+0100
TZNAME:CET
DTSTART:19701025T030000
RRULE:FREQ=YEARLY;BYMONTH=10;BYDAY=-1SU
END:STANDARD
END:VTIMEZONE
BEGIN:VEVENT
UID:2485226:Event:559392
DTSTAMP:20260422T221101Z
SUMMARY:sophrologie relationnelle
DESCRIPTION:Venez participer à une séance de sophrologie relationnel
 le, au dojo zen de Toulon, pour y apprendre à se débarrasser du stre
 ss quotidien, de ses angoisses et soucis et retrouver un équilibre i
 ntérieur. Une heure de ressourcement pour recharger ses batteries dé
 velopper son potentiel créatif et vivre un automne serein. Ces séanc
 es ont lieu tous les lundi à 9h30, séance découverte à 5 €\nAu D
 ojo Zen 22 impasse Roubaud ( pas loin du nouveau Pt de chemin de fer d
 e St Jean du var )\n\nPour plus d'information, aller sur https://epane
 ws.fr/events/sophrologie-relationnelle
DTSTART;TZID=Europe/Paris:20111008T210000
DTEND;TZID=Europe/Paris:20111010T223000
CATEGORIES:83
LOCATION:Toulon
WEBSITE:
URL:
CONTACT:
ORGANIZER;CN=helios-sante-bien-etre:https://epanews.fr/profile/sylviam
 ur
ATTACH;FMTTYPE="image/jpeg":http://storage.ning.com/topology/rest/1.0/
 file/get/1662472669?profile=original
ATTENDEE;ROLE=REQ-PARTICIPANT;PARTSTAT=ACCEPTED;RSVP=TRUE;CN=helios-sa
 nte-bien-etre:https://epanews.fr/profile/sylviamur
END:VEVENT
END:VCALENDAR
