BEGIN:VCALENDAR
PRODID:NingEventWidget-v1
VERSION:2.0
METHOD:PUBLISH
BEGIN:VTIMEZONE
TZID:Europe/Paris
X-LIC-LOCATION:Europe/Paris
BEGIN:DAYLIGHT
TZOFFSETFROM:+0100
TZOFFSETTO:+0200
TZNAME:CEST
DTSTART:19700329T020000
RRULE:FREQ=YEARLY;BYMONTH=3;BYDAY=-1SU
END:DAYLIGHT
BEGIN:STANDARD
TZOFFSETFROM:+0200
TZOFFSETTO:+0100
TZNAME:CET
DTSTART:19701025T030000
RRULE:FREQ=YEARLY;BYMONTH=10;BYDAY=-1SU
END:STANDARD
END:VTIMEZONE
BEGIN:VEVENT
UID:2485226:Event:975719
DTSTAMP:20260419T200723Z
SUMMARY:Sophrologie présentation gratuite
DESCRIPTION:Je vous propose de venir découvrir la Relaxation Dynamiqu
 e de Caycedo.\nCette méthode Créée par le Professeur Caycedo dans l
 es années 60 permet de laisser émerger les capacités positives de n
 otre conscience. C'est à dire de nous sentir plus présents à nous-m
 ême, à nos sensations agréables ainsi que de développer notre intu
 ition.\nEn effet il est difficile de se sentir vraiment bien si nous s
 ommes, le plus souvent, coupés du sentiment d'exister et si nous somm
 es en permanence envahis par des pensées et des sentiments négatifs\
 nAvec la Sophrologie Caycédienne nous accédons à une plus grande co
 nscience de notre corps, de notre équilibre de notre posture, de notr
 e respiration, de nos sens… Elle nous apporte également plus de rec
 ul dans les situations qui d'ordinaire seraient stressantes voir anxio
 gènes.\nLa Sophrologie Caycédienne est une excellente méthode de pr
 évention de la santé. Elle réduit de manière très significative l
 es effets négatifs du stress. Mais surtout elle donne accès à un ni
 veau de conscience qui nous permet de nous sentir en harmonie avec nou
 s-même et notre environnement ainsi que de nous projeter positivement
  dans l'existence.\nAu plaisir de vous rencontrer !\nLes codes vous se
 rons transmis par SMS\n Métro Daumesnil ligne 6 et 8\nRenseignements 
 et Inscription\n06 49 95 95 55\n\nPour plus d'information, aller sur h
 ttps://epanews.fr/events/sophrologie-pr-sentation-gratuite
DTSTART;TZID=Europe/Paris:20121019T190000
DTEND;TZID=Europe/Paris:20121019T201500
CATEGORIES:75
LOCATION:Paris 12è
WEBSITE:http://www.sophrosune.fr
URL:http://www.sophrosune.fr
CONTACT:06 49 95 95 55
ORGANIZER:Michel GUEGUEN Sophrologue Caycedien
ATTACH;FMTTYPE="image/jpeg":http://storage.ning.com/topology/rest/1.0/
 file/get/1662676637?profile=original
ATTENDEE;ROLE=REQ-PARTICIPANT;PARTSTAT=ACCEPTED;RSVP=TRUE;CN=Pinuccia:
 https://epanews.fr/profile/Pinuccia
ATTENDEE;ROLE=REQ-PARTICIPANT;PARTSTAT=ACCEPTED;RSVP=TRUE;CN=Sabine:ht
 tps://epanews.fr/profile/tipa
ATTENDEE;ROLE=REQ-PARTICIPANT;PARTSTAT=ACCEPTED;RSVP=TRUE;CN="Michel G
 UEGUEN":https://epanews.fr/profile/GUEGUEN
END:VEVENT
END:VCALENDAR
