BEGIN:VCALENDAR
PRODID:NingEventWidget-v1
VERSION:2.0
METHOD:PUBLISH
BEGIN:VTIMEZONE
TZID:Europe/Paris
X-LIC-LOCATION:Europe/Paris
BEGIN:DAYLIGHT
TZOFFSETFROM:+0100
TZOFFSETTO:+0200
TZNAME:CEST
DTSTART:19700329T020000
RRULE:FREQ=YEARLY;BYMONTH=3;BYDAY=-1SU
END:DAYLIGHT
BEGIN:STANDARD
TZOFFSETFROM:+0200
TZOFFSETTO:+0100
TZNAME:CET
DTSTART:19701025T030000
RRULE:FREQ=YEARLY;BYMONTH=10;BYDAY=-1SU
END:STANDARD
END:VTIMEZONE
BEGIN:VEVENT
UID:2485226:Event:2993275
DTSTAMP:20260424T153306Z
SUMMARY:Sophrologie : cours découverte lundi 17.12 - 19h15
DESCRIPTION:75002 – Cours Découverte de Sophrologie : une occasion 
 de découvrir les différentes techniques de Sophrologie .\nPrise de c
 onscience corporelle dans l’ancrage debout et assis sur chaise.  Ouv
 erture de conscience de la respiration. Invitation à se reconnecter a
 ux ressources et qualités positives en soi.\nTarif : 10€ \nS'inscr
 ire par mail svp : espacebeauregard75@yahoo.fr\nCours proposé par Ben
 oit Chopin - Sophrologue praticien\nSe renseigner auprès de Christian
 e Beaugé - Enseignante Méditation Pleine Conscience MBSR - Sophrolog
 ue Relaxologue.\n\nPour plus d'information, aller sur https://epanews.
 fr/events/sophrologie-cours-d-couverte-lundi-19-12-19h15
DTSTART;TZID=Europe/Paris:20181217T191500
DTEND;TZID=Europe/Paris:20181217T201500
CATEGORIES:75
LOCATION:Paris 75002
WEBSITE:http://www.espace-beauregard75.com
URL:http://www.espace-beauregard75.com
CONTACT:
ORGANIZER;CN="Christiane Beaugé":https://epanews.fr/profile/Christian
 eBeauge
ATTACH;FMTTYPE="image/jpeg":
ATTENDEE;ROLE=REQ-PARTICIPANT;PARTSTAT=ACCEPTED;RSVP=TRUE;CN="Christia
 ne Beaugé":https://epanews.fr/profile/ChristianeBeauge
END:VEVENT
END:VCALENDAR
