BEGIN:VCALENDAR
PRODID:NingEventWidget-v1
VERSION:2.0
METHOD:PUBLISH
BEGIN:VTIMEZONE
TZID:Europe/Paris
X-LIC-LOCATION:Europe/Paris
BEGIN:DAYLIGHT
TZOFFSETFROM:+0100
TZOFFSETTO:+0200
TZNAME:CEST
DTSTART:19700329T020000
RRULE:FREQ=YEARLY;BYMONTH=3;BYDAY=-1SU
END:DAYLIGHT
BEGIN:STANDARD
TZOFFSETFROM:+0200
TZOFFSETTO:+0100
TZNAME:CET
DTSTART:19701025T030000
RRULE:FREQ=YEARLY;BYMONTH=10;BYDAY=-1SU
END:STANDARD
END:VTIMEZONE
BEGIN:VEVENT
UID:2485226:Event:717356
DTSTAMP:20260424T160909Z
SUMMARY:sophro-relax-massage
DESCRIPTION:\nUne journée pour soi, celle du 16 avril, juste pour se 
 détendre, lâcher prise aux tensions qu'elles soit musculaires où ps
 ychologiques, les laisser partir d'elles même à partir d'une pratiqu
 e en sophrologie dans la matinée qui nous permettra de donner et rece
 voir un massage dans l'après-midi.\n\nPour plus d'information, aller 
 sur https://epanews.fr/events/sophro-relax-massage
DTSTART;TZID=Europe/Paris:20120416T000000
DTEND;TZID=Europe/Paris:20120416T235900
CATEGORIES:11
LOCATION:Narbonne
WEBSITE:http://www.centrecelestine.com
URL:http://www.centrecelestine.com
CONTACT:04 68 49 9 24 ,  06 21 04 39 77
ORGANIZER:Nadia, Audrey, Régine
ATTACH;FMTTYPE="image/jpeg":
ATTENDEE;ROLE=REQ-PARTICIPANT;PARTSTAT=ACCEPTED;RSVP=TRUE;CN=nadia:htt
 ps://epanews.fr/profile/nadia197
END:VEVENT
END:VCALENDAR
