BEGIN:VCALENDAR
PRODID:NingEventWidget-v1
VERSION:2.0
METHOD:PUBLISH
BEGIN:VTIMEZONE
TZID:Europe/Paris
X-LIC-LOCATION:Europe/Paris
BEGIN:DAYLIGHT
TZOFFSETFROM:+0100
TZOFFSETTO:+0200
TZNAME:CEST
DTSTART:19700329T020000
RRULE:FREQ=YEARLY;BYMONTH=3;BYDAY=-1SU
END:DAYLIGHT
BEGIN:STANDARD
TZOFFSETFROM:+0200
TZOFFSETTO:+0100
TZNAME:CET
DTSTART:19701025T030000
RRULE:FREQ=YEARLY;BYMONTH=10;BYDAY=-1SU
END:STANDARD
END:VTIMEZONE
BEGIN:VEVENT
UID:2485226:Event:1940368
DTSTAMP:20260421T234722Z
SUMMARY:Sophro Rando
DESCRIPTION:                             S
 OPHRO RANDO\nSe reconnecter à soi sur les sentiers de bord de mer\nTo
 us les jeudis de 10h30 à 12h\nA partir du 5 juin 2014\nVenez marcher 
 en pleine conscience en étant à la fois centré sur vous-même et co
 nnecté à l'environnement.\nRDV devant la mairie de Baden\n\n    
                      Tarif : 10 € la sortie\n\nP
 our plus d'information, aller sur https://epanews.fr/events/sophro-ran
 do
DTSTART;TZID=Europe/Paris:20140605T103000
DTEND;TZID=Europe/Paris:20140605T120000
CATEGORIES:56
LOCATION:Sur les sentiers côtiers
WEBSITE:http://sophrologie-sophiemarchand.blogspot.fr/
URL:http://sophrologie-sophiemarchand.blogspot.fr/
CONTACT:06 03 15 28 54
ORGANIZER;CN=Sophie:https://epanews.fr/profile/Sophie234
ATTACH;FMTTYPE="image/jpeg":
ATTENDEE;ROLE=REQ-PARTICIPANT;PARTSTAT=ACCEPTED;RSVP=TRUE;CN=Sophie:ht
 tps://epanews.fr/profile/Sophie234
END:VEVENT
END:VCALENDAR
