BEGIN:VCALENDAR
PRODID:NingEventWidget-v1
VERSION:2.0
METHOD:PUBLISH
BEGIN:VTIMEZONE
TZID:Europe/Paris
X-LIC-LOCATION:Europe/Paris
BEGIN:DAYLIGHT
TZOFFSETFROM:+0100
TZOFFSETTO:+0200
TZNAME:CEST
DTSTART:19700329T020000
RRULE:FREQ=YEARLY;BYMONTH=3;BYDAY=-1SU
END:DAYLIGHT
BEGIN:STANDARD
TZOFFSETFROM:+0200
TZOFFSETTO:+0100
TZNAME:CET
DTSTART:19701025T030000
RRULE:FREQ=YEARLY;BYMONTH=10;BYDAY=-1SU
END:STANDARD
END:VTIMEZONE
BEGIN:VEVENT
UID:2485226:Event:200301
DTSTAMP:20260420T080735Z
SUMMARY:Sons et Mouvements 
DESCRIPTION:SONS ET MOUVEMENTS Stage de printemps :    FÊTER LE RE
 NOUVEAU !  Sophie Grassi et Tine Bartels vous proposent durant ces tro
 is jours de ressentir pleinement votre corps : - Le corps et la matiè
 re : respiration, squelette, relation à l’espace, - La présence et
  l'être : cohérence, fluidité, purification, vibrations.   Nous ut
 iliserons les vibrations des sons harmoniques, les ondulations des mou
 vements corporels et les vertus des huiles essentielles pour trouver s
 es repères, planter et garder son axe dans le tourbillon de la vie qu
 otidienne ! Au cours de ces ateliers vous découvrirez de nombreux out
 ils facilement réutilisables. Du vendredi 1er avril 14 h au dimanche 
 3 avril 17 h Mas de Mestre à Sommière dans le Gard Site : http://www
 .lemasdemestre.com/ <http://www.lemasdemestre.com/>   Participation au
  stage 380 € :ateliers, repas bio, collations et hébergement inclus
  Le nombre de participants est limité à 20 personnes votre inscripti
 on vous sera confirmée à la réception un chèque de 120 € d’arr
 hes Nous restons à votre disposition pour toute information.  Sophie 
 Grassi : orthophoniste, kinésiologue, énergéticienne, travail en sy
 stémie familiale. Tél : 06 60 87 91 24 Tine Bartels : danseuse, chor
 égraphe, enseignante Pilates et danse orientale. Tél : 06 78 61 86 9
 2\n \n\nPour plus d'information, aller sur https://epanews.fr/events/
 sons-et-mouvements
DTSTART;TZID=Europe/Paris:20110401T141500
DTEND;TZID=Europe/Paris:20110403T170000
CATEGORIES:30
LOCATION:Nîmes le mas de Mestre
WEBSITE:
URL:
CONTACT:06 60 87 91 24
ORGANIZER:sophie grassi et Tine Bartels
ATTACH;FMTTYPE="image/jpeg":
ATTENDEE;ROLE=REQ-PARTICIPANT;PARTSTAT=ACCEPTED;RSVP=TRUE;CN="sophie g
 rassi":https://epanews.fr/profile/sophiegrassi
END:VEVENT
END:VCALENDAR
