BEGIN:VCALENDAR
PRODID:NingEventWidget-v1
VERSION:2.0
METHOD:PUBLISH
BEGIN:VTIMEZONE
TZID:Europe/Paris
X-LIC-LOCATION:Europe/Paris
BEGIN:DAYLIGHT
TZOFFSETFROM:+0100
TZOFFSETTO:+0200
TZNAME:CEST
DTSTART:19700329T020000
RRULE:FREQ=YEARLY;BYMONTH=3;BYDAY=-1SU
END:DAYLIGHT
BEGIN:STANDARD
TZOFFSETFROM:+0200
TZOFFSETTO:+0100
TZNAME:CET
DTSTART:19701025T030000
RRULE:FREQ=YEARLY;BYMONTH=10;BYDAY=-1SU
END:STANDARD
END:VTIMEZONE
BEGIN:VEVENT
UID:2485226:Event:725998
DTSTAMP:20260421T100614Z
SUMMARY:ConfÃ©rence et harmonisation sonore par FranÃ§ois BrulÃ© sonot
 hÃ©rapeute
DESCRIPTION:MusicienÂ formÃ©Â enÂ musicothÃ©rapieÂ parÂ DanielÂ Perret
 ,Â  FranÃ§oisÂ BrulÃ©Â aÂ depuisÂ 4Â ansÂ beaucoupÂ expÃ©rimentÃ© Ã Â 
 lâ€™intÃ©rieurÂ duÂ mondeÂ Â desÂ sonsÂ guÃ©risseurs grÃ¢ce Ã  la voix
 , un gong, un tambour, des bols chantants et des tubes rÃ©sonnants... 
 . Ce vortex Ã©nergÃ©tiqueÂ permet de se relier Ã Â des contrÃ©es aux s
 onoritÃ©s uniques .Le Son est omniscient et omnipotent. Il aide Ã  se 
 relier au Ciel (qualitÃ©s innÃ©es) et la Terre (racines), Ã  combler l
 es dÃ©ficiences en 5 Ã©lÃ©ments nous constituant, de rÃ©harmoniser des
  zones faibles, etc..\nCe bain de vibrations tout en guidance peut all
 Ã©ger, transformer, mÃ©tamorphoser des situations Ã©nergÃ©tiques, phys
 iques, psychologiques, Ã©motionnelles...grÃ¢ce Ã  la Joie vÃ©hiculÃ©e 
 par le Son. La Joie est le Soleil IntÃ©rieur. A son contact, les diffi
 cultÃ©s fondent, on se reconnecte Ã  ses aspirations profondes, on s'e
 nracine et c'est bon!\nLe rÃ©sultat? Plus de plÃ©nitude, de sÃ©rÃ©nitÃ
 ©, d'ancrage et de fluiditÃ©...Toute la douceur du cÃ´tÃ© Yang!\nParti
 cipation:10 â‚¬\nDemander le code d'entrÃ©e\n\nPour plus d'information
 , aller sur https://epanews.fr/events/sonotherapie-conference-et-harmo
 nisation
DTSTART;TZID=Europe/Paris:20120317T193000
DTEND;TZID=Europe/Paris:20120317T213000
CATEGORIES:75
LOCATION:Paris
WEBSITE:
URL:
CONTACT:0624898398
ORGANIZER:FranÃ§ois BrulÃ©
ATTACH;FMTTYPE="image/jpeg":http://storage.ning.com/topology/rest/1.0/
 file/get/1662571242?profile=original
ATTENDEE;ROLE=REQ-PARTICIPANT;PARTSTAT=ACCEPTED;RSVP=TRUE;CN=FranÃ§ois
 :https://epanews.fr/profile/Francois796
END:VEVENT
END:VCALENDAR
