BEGIN:VCALENDAR
PRODID:NingEventWidget-v1
VERSION:2.0
METHOD:PUBLISH
BEGIN:VTIMEZONE
TZID:Europe/Paris
X-LIC-LOCATION:Europe/Paris
BEGIN:DAYLIGHT
TZOFFSETFROM:+0100
TZOFFSETTO:+0200
TZNAME:CEST
DTSTART:19700329T020000
RRULE:FREQ=YEARLY;BYMONTH=3;BYDAY=-1SU
END:DAYLIGHT
BEGIN:STANDARD
TZOFFSETFROM:+0200
TZOFFSETTO:+0100
TZNAME:CET
DTSTART:19701025T030000
RRULE:FREQ=YEARLY;BYMONTH=10;BYDAY=-1SU
END:STANDARD
END:VTIMEZONE
BEGIN:VEVENT
UID:2485226:Event:1239236
DTSTAMP:20260421T102636Z
SUMMARY:Solstice d'Ã©tÃ© avec l'Archange du Feu
DESCRIPTION:C'est avec joie et gratitude que nous vous annonÃ§ons la t
 enue d'un sÃ©minaire dans le Var, au solstice d'Ã©tÃ©, avec l'Avatar d
 e lâ€™Archange Michael.\nIl viendra pour nous des USA afin de nous dis
 penser (en franÃ§ais) son prÃ©cieux enseignement du plus haut niveau e
 t nous baigner de son Ã‰nergie et de son Amour.\nUn sÃ©minaire avec Lu
 i reprÃ©sente une expÃ©rience transformatrice et marquera votre vie.\n
 Atelier exceptionnel pour Ã©tablir et ancrer les bases et codesÂ Â Ã©n
 ergÃ©tiques et gÃ©omÃ©triques de la Conscience Multidimensionnelle. Ce
 t atelier dâ€™un week-end sâ€™adresse Ã  tous les chercheurs spirituel
 s. Les nouveaux apprendront des techniques simples et efficaces dâ€™al
 ignement et de gÃ©omÃ©trie interne. Les chercheurs de longue date dÃ©c
 ouvrent un enseignement de haut niveau, prÃ©cis, qui recadre, redresse
  les connaissances et thÃ©ories selon un point de vue unique et global
 . Chacun, selon son niveau et sous lâ€™impact puissant de la vibration
  Michaelique, reÃ§oit ce dont il/elle a besoin. Le but est la fusion M
 atiÃ¨re/Esprit, lâ€™Ã©quilibre Cardiaque et Christique et dâ€™ÃŠtre pr
 Ãªt pour le Nouveau Cycle.Â \nLe contact avec Michael accÃ©lÃ¨re la tr
 ansmutation atomique de lâ€™Etre, permet dâ€™accÃ©der aux plans supÃ©r
 ieurs et Ã  la comprÃ©hension des RÃ©alitÃ©s et HiÃ©rarchies spirituel
 les, liÃ©es Ã  lâ€™Ã©volution de la Terre et de lâ€™HumanitÃ©.\nVivez 
 un changement immÃ©diat de votre taux vibratoire, une activation de lâ
 €™ADN par le son et le rayonnement du CÅ“ur Spirituel. Recevez, en Con
 science, la PrÃ©sence, les BÃ©nÃ©dictions et lâ€™Amour de lâ€™Archange
 .Â \n\n\n\n\n\n\n\n\n\nPour plus d'information, aller sur https://epan
 ews.fr/events/solstice-d-t-avec-l-archange-du-feu
DTSTART;TZID=Europe/Paris:20130621T180000
DTEND;TZID=Europe/Paris:20130623T170000
CATEGORIES:tous
LOCATION:sur la cÃ´te varoise
WEBSITE:http://Ã  demander au 06 08 05 40 03
URL:http://Ã  demander au 06 08 05 40 03
CONTACT:06 08 05 40 03
ORGANIZER:monikaberenger@orange.fr  (Toulon)
ATTACH;FMTTYPE="image/jpeg":http://storage.ning.com/topology/rest/1.0/
 file/get/1662784340?profile=original
ATTENDEE;ROLE=REQ-PARTICIPANT;PARTSTAT=ACCEPTED;RSVP=TRUE;CN="Monika B
 erenger":https://epanews.fr/profile/MonikaBerenger
END:VEVENT
END:VCALENDAR
