BEGIN:VCALENDAR
PRODID:NingEventWidget-v1
VERSION:2.0
METHOD:PUBLISH
BEGIN:VTIMEZONE
TZID:Europe/Paris
X-LIC-LOCATION:Europe/Paris
BEGIN:DAYLIGHT
TZOFFSETFROM:+0100
TZOFFSETTO:+0200
TZNAME:CEST
DTSTART:19700329T020000
RRULE:FREQ=YEARLY;BYMONTH=3;BYDAY=-1SU
END:DAYLIGHT
BEGIN:STANDARD
TZOFFSETFROM:+0200
TZOFFSETTO:+0100
TZNAME:CET
DTSTART:19701025T030000
RRULE:FREQ=YEARLY;BYMONTH=10;BYDAY=-1SU
END:STANDARD
END:VTIMEZONE
BEGIN:VEVENT
UID:2485226:Event:1677320
DTSTAMP:20260423T124830Z
SUMMARY:Solstice d'Hiver danse & rituel
DESCRIPTION:Solstice d’hiver\n \nSous la terre en apparence dépoui
 llée et inerte, la renaissance de la nature se prépare, la graine co
 mmence à germer…\nFête du soleil invaincu, de la lumière nécessa
 ire à la vie et du feu intérieur…\n \nDanser ensemble et pour soi
 , se préparer au renouveau du soleil, renforcer la terre en nous pour
  affronter l’hiver avec énergie.Nous célèbrerons la nuit la plus 
 longue et commencerons à planter les graines de nos intentions.\nAu J
 ardin d’Alice, entre le studio de danse et la nature environnante, n
 ous inventerons nos rituels de fin d’année, avec ce que chacun aura
  besoin de déposer, d’offrir et de recevoir…\nOccasion de découv
 rir ou de retraverser autrement danses sacrées et rituels soufis, cel
 tes et amérindiens… de s’offrir les cadeaux de noël, de goûter 
 aux élixirs sacrés et de partager les mets traditionnels…\nStage o
 uvert à tous…\n \n\nPour plus d'information, aller sur https://epa
 news.fr/events/solstice-d-hiver-danse-rituel
DTSTART;TZID=Europe/Paris:20131220T190000
DTEND;TZID=Europe/Paris:20131222T170000
CATEGORIES:33
LOCATION:Nérigean Jardin d'Alice
WEBSITE:http://www.gite-jardindalice.com
URL:http://www.gite-jardindalice.com
CONTACT:06 24 32 77 83
ORGANIZER;CN="Céline Fuzeau":https://epanews.fr/profile/CelineFuzeau
ATTACH;FMTTYPE="image/jpeg":http://storage.ning.com/topology/rest/1.0/
 file/get/1662992568?profile=original
ATTENDEE;ROLE=REQ-PARTICIPANT;PARTSTAT=ACCEPTED;RSVP=TRUE;CN="Céline 
 Fuzeau":https://epanews.fr/profile/CelineFuzeau
END:VEVENT
END:VCALENDAR
