BEGIN:VCALENDAR
PRODID:NingEventWidget-v1
VERSION:2.0
METHOD:PUBLISH
BEGIN:VTIMEZONE
TZID:Europe/Paris
X-LIC-LOCATION:Europe/Paris
BEGIN:DAYLIGHT
TZOFFSETFROM:+0100
TZOFFSETTO:+0200
TZNAME:CEST
DTSTART:19700329T020000
RRULE:FREQ=YEARLY;BYMONTH=3;BYDAY=-1SU
END:DAYLIGHT
BEGIN:STANDARD
TZOFFSETFROM:+0200
TZOFFSETTO:+0100
TZNAME:CET
DTSTART:19701025T030000
RRULE:FREQ=YEARLY;BYMONTH=10;BYDAY=-1SU
END:STANDARD
END:VTIMEZONE
BEGIN:VEVENT
UID:2485226:Event:175811
DTSTAMP:20260419T141723Z
SUMMARY:SoirÃ©e TibÃ©taine : film + musique de T. Gonpo
DESCRIPTION:\n\n\n\n\n\nProjection du film \"DESTINATION HIMALAYA, LE 
 PAYS D'OÃ™ VIENT LE VENT\" de Jeon Soo-ilSuivi d'un spectacle de chant
 s tibÃ©tains interprÃ©tÃ©s par Tenzin GÃ¶npoDESTINATION HIMALAYA:Â Cho
 i, un entrepreneur sud-corÃ©en, part faire un long pÃ©riple au cÅ“ur d
 u NÃ©pal. Il doit trouver la famille de Dorgy, un ouvrier tuÃ© dans un
  accident du travail. Parlant un anglais approximatif, il tente de leu
 r annoncer la mauvaise nouvelle mais ne sait pas comment s'y prendre. 
 Entre les rafales de vent et le chant des priÃ¨res, Choi se sent de pl
 us en plus perdu. Seul un petit garÃ§on arrive Ã  communiquer avec lui
 ...Â CorÃ©e - 2010 - 1h35 - Drame - vostfrTENZIN GÃ–NPO :Â NÃ© au Tibe
 t, il a 12 ans quand entre Ã  lâ€™Institut TibÃ©tain des Arts du Spect
 acle en Inde. Techniques vocales, danses lui sont transmises par des m
 aÃ®tresayant exercÃ© au Tibet jusqu'en 1959. Professeur puis directeur
  artistique, ses 25 annÃ©es au sein de lâ€™Institut lui ont permis dâ€
 ™en maÃ®triser tout le rÃ©pertoire.Aujourdâ€™hui Ã  Paris Tenzin est l
 e 1er artiste tibÃ©tain Ã  adapter en franÃ§ais,anglais, allemand et i
 talien ses spectacles pour le public europÃ©en.Multipliant les rencont
 res artistiques il Ã©volue avec diffÃ©rents artistes,du rÃ©alisateur J
 .J. Annaud au poÃ¨te A. Velter, de la chorÃ©graphe C. Carlson au caval
 ier Bartabasâ€¦Infos ComplÃ©mentaires :Â Tarifs : TP 6.50â‚¬ - TR 5â‚¬
  (montreuillois, -18ans, Ã©tudiants, +60ans, adhÃ©rents de Renc'art au
  MÃ©liÃ¨s) - Tarif PrÃ©fÃ©rentiel 4â‚¬ ( chÃ´meurs, RSA, familles nomb
 reuses) - carte 10 entrÃ©es Ã  46â‚¬\n\n\n\n\n\nPour plus d'informatio
 n, aller sur https://epanews.fr/events/soiree-tibetaine-film
DTSTART;TZID=Europe/Paris:20101228T203000
DTEND;TZID=Europe/Paris:20101228T233000
CATEGORIES:75
LOCATION:Paris
WEBSITE:http://maps.google.fr/maps?hl=fr&ie=UTF8&q=cin%C3%A9ma+georges
 +m%C3%A9li%C3%A8s+montreuil&fb=1&gl=fr&hq=cin%C3%A9ma+georges+m%C3%A9l
 i%C3%A8s&hnear=Montreuil&cid=0,0,13538507695093339583&sqi=2&ll=48.8627
 81,2.43875&spn=0.003437,0.009645&z=17
URL:http://maps.google.fr/maps?hl=fr&ie=UTF8&q=cin%C3%A9ma+georges+m%C
 3%A9li%C3%A8s+montreuil&fb=1&gl=fr&hq=cin%C3%A9ma+georges+m%C3%A9li%C3
 %A8s&hnear=Montreuil&cid=0,0,13538507695093339583&sqi=2&ll=48.862781,2
 .43875&spn=0.003437,0.009645&z=17
CONTACT:
ORGANIZER:
ATTACH;FMTTYPE="image/jpeg":http://storage.ning.com/topology/rest/1.0/
 file/get/1662370890?profile=original
ATTENDEE;ROLE=REQ-PARTICIPANT;PARTSTAT=ACCEPTED;RSVP=TRUE;CN=Elisabeth
 :https://epanews.fr/profile/Elisabeth
ATTENDEE;ROLE=REQ-PARTICIPANT;PARTSTAT=ACCEPTED;RSVP=TRUE;CN="Chris Te
 nzin":https://epanews.fr/profile/ChrisTenzin
END:VEVENT
END:VCALENDAR
