BEGIN:VCALENDAR
PRODID:NingEventWidget-v1
VERSION:2.0
METHOD:PUBLISH
BEGIN:VTIMEZONE
TZID:Europe/Paris
X-LIC-LOCATION:Europe/Paris
BEGIN:DAYLIGHT
TZOFFSETFROM:+0100
TZOFFSETTO:+0200
TZNAME:CEST
DTSTART:19700329T020000
RRULE:FREQ=YEARLY;BYMONTH=3;BYDAY=-1SU
END:DAYLIGHT
BEGIN:STANDARD
TZOFFSETFROM:+0200
TZOFFSETTO:+0100
TZNAME:CET
DTSTART:19701025T030000
RRULE:FREQ=YEARLY;BYMONTH=10;BYDAY=-1SU
END:STANDARD
END:VTIMEZONE
BEGIN:VEVENT
UID:2485226:Event:759515
DTSTAMP:20260424T215501Z
SUMMARY:SoirÃ©e d'information, Ã©cole de naturopathie Aesculape Ã  Lyo
 n le 24 avril
DESCRIPTION:\n\nSOIREE PORTES OUVERTES Ecole de naturopathie Aesculape
 \n\n\n\n\n\n\nÃ†SCULAPE,\nEcole de Naturopathie affiliÃ©e Ã  la FENAHM
 AN ouvre une antenne sur Lyon le 28 septembre 2012 et vous propose de 
 dÃ©couvrir son programme d'Ã©tude Ã  temps partiel sur trois ans lors 
 de la soirÃ©e \"portes ouvertes\" du 24 avril.  Programme de la soirÃ©
 e : 18h30 : Accueil  19h : PrÃ©sentation de lâ€™Ecole Ã†SCULAPE et de 
 la naturopathie par Laetitia Monnerie-LÃ©aud et Dominick LÃ©aud-Zachov
 al  19h40 : La comprÃ©hension du corps humain et de la physiologie en 
 naturopathie avec Sophie Bruneel  20h00 : Nutrition et diÃ©tÃ©tique, d
 es piliers de la santÃ© â€“ Eva Santiago  20h20 : Lâ€™usage des plante
 s en naturopathie - Samuel Franco  20h40 : La psychologie centrÃ©e sur
  la relation dâ€™aide - Sandra Vermard  21h00 : Echanges avec les inte
 rvenants.  Pour une meilleure organisation, nous vous remercions de bi
 en vouloir vous inscrire dÃ¨s que possible par e-mail ou tÃ©lÃ©phoneÂ 
 Â Â Â Â Â Â Â Â Â Â Â Â 04.42.29.87.48Â Â Â Â Â Â Â â€“ e-mail :Â aesc
 ulape13@orange.frÂ   Au plaisir de vous rencontrer et dâ€™Ã©changer Ã 
  cette occasion  Plan dâ€™accÃ¨s Ã  la rÃ©sidence hÃ´teliÃ¨re Villeman
 zy 21 montÃ©e St SÃ©bastien, 69001 LYON Tel :Â Â Â Â Â Â Â Â Â Â Â Â Â
  04 72 00 19 00Â Â Â Â Â Â Â â€“Â Residence.villemanzy@belambra.frÂ \n
 \nPour plus d'information, aller sur https://epanews.fr/events/soiree-
 portes-ouvertes-ecole-de-naturopathie-easculape-lyon
DTSTART;TZID=Europe/Paris:20120424T183000
DTEND;TZID=Europe/Paris:20120424T220000
CATEGORIES:69
LOCATION:LYON
WEBSITE:
URL:
CONTACT:04 42 29 87 48
ORGANIZER;CN="Florence Lauriol":https://epanews.fr/profile/FlorenceLau
 riol
ATTACH;FMTTYPE="image/jpeg":
ATTENDEE;ROLE=REQ-PARTICIPANT;PARTSTAT=ACCEPTED;RSVP=TRUE;CN="Florence
  Lauriol":https://epanews.fr/profile/FlorenceLauriol
END:VEVENT
END:VCALENDAR
