BEGIN:VCALENDAR
PRODID:NingEventWidget-v1
VERSION:2.0
METHOD:PUBLISH
BEGIN:VTIMEZONE
TZID:Europe/Paris
X-LIC-LOCATION:Europe/Paris
BEGIN:DAYLIGHT
TZOFFSETFROM:+0100
TZOFFSETTO:+0200
TZNAME:CEST
DTSTART:19700329T020000
RRULE:FREQ=YEARLY;BYMONTH=3;BYDAY=-1SU
END:DAYLIGHT
BEGIN:STANDARD
TZOFFSETFROM:+0200
TZOFFSETTO:+0100
TZNAME:CET
DTSTART:19701025T030000
RRULE:FREQ=YEARLY;BYMONTH=10;BYDAY=-1SU
END:STANDARD
END:VTIMEZONE
BEGIN:VEVENT
UID:2485226:Event:1614835
DTSTAMP:20260424T110434Z
SUMMARY:soirée indienne le 23 novembre à Moissac (82)
DESCRIPTION: Au programme\nverre de l'amitié\ndanse traditionnelle d
 'Inde du sud\navec Sabine Fernandez\nexpo peinture impro tablas par Ma
 rc Ingrand\nrepas indien festif\nLe but  de cette soirée est de sout
 enir  le \"Dharmasūya Mahāyāga\". un rituel védique conduit par S
 ri Tathata ( en Inde du Sud (à Palakkad, Kerala) en février 2014 pou
 r apporter plus de Paix et d'Harmonie sur terre.\nVous êtes tous conv
 iés!\n \n\nPour plus d'information, aller sur https://epanews.fr/eve
 nts/soiree-indienne-le-23-novembre
DTSTART;TZID=Europe/Paris:20131123T183000
DTEND;TZID=Europe/Paris:20131123T230000
CATEGORIES:82
LOCATION:(Tarn et Garonne)
WEBSITE:
URL:
CONTACT:Inscriptions au 06 32 84 67 63
ORGANIZER:association dharmalila
ATTACH;FMTTYPE="image/jpeg":
ATTENDEE;ROLE=REQ-PARTICIPANT;PARTSTAT=ACCEPTED;RSVP=TRUE;CN="M.Lena":
 https://epanews.fr/profile/lena
END:VEVENT
END:VCALENDAR
