BEGIN:VCALENDAR
PRODID:NingEventWidget-v1
VERSION:2.0
METHOD:PUBLISH
BEGIN:VTIMEZONE
TZID:Europe/Paris
X-LIC-LOCATION:Europe/Paris
BEGIN:DAYLIGHT
TZOFFSETFROM:+0100
TZOFFSETTO:+0200
TZNAME:CEST
DTSTART:19700329T020000
RRULE:FREQ=YEARLY;BYMONTH=3;BYDAY=-1SU
END:DAYLIGHT
BEGIN:STANDARD
TZOFFSETFROM:+0200
TZOFFSETTO:+0100
TZNAME:CET
DTSTART:19701025T030000
RRULE:FREQ=YEARLY;BYMONTH=10;BYDAY=-1SU
END:STANDARD
END:VTIMEZONE
BEGIN:VEVENT
UID:2485226:Event:188248
DTSTAMP:20260421T093918Z
SUMMARY:soirée échange de massage à Marseille 12è
DESCRIPTION:La soirée du Mardi 8 février à 19h30 est proposée pour
  un atelier d'échange de massage chez Yvonne à Montolivet, cet ateli
 er est ouvert à ceux et celles qui ont une bonne pratique du massage 
 toutes techniques bienvenues, il reste encore 2 places disponibles, si
  possible pour des femmes pour équilibrer le groupe.\nDans un esprit 
 de partage chaleureux, dans l'acte d'offrir et de recevoir ce que chac
 un à de meilleur.\nSi toutefois un espace pouvant acceuillir plus de 
 personnes sur Marseille que mon appart, nous pourrons ensemble étudi
 er toutes propositions!\nA bientôt Yvonne\n \n\nPour plus d'informat
 ion, aller sur https://epanews.fr/events/soiree-echange-de-massage-a
DTSTART;TZID=Europe/Paris:20110208T193000
DTEND;TZID=Europe/Paris:20110208T220000
CATEGORIES:13
LOCATION:Marseille
WEBSITE:
URL:
CONTACT:06 62 44 93 94
ORGANIZER;CN="SEBBAG YVONNE":https://epanews.fr/profile/SEBBAGYVONNE
ATTACH;FMTTYPE="image/jpeg":
ATTENDEE;ROLE=REQ-PARTICIPANT;PARTSTAT=ACCEPTED;RSVP=TRUE;CN="Patrick 
 Benoist":https://epanews.fr/profile/PatrickBenoist
ATTENDEE;ROLE=REQ-PARTICIPANT;PARTSTAT=ACCEPTED;RSVP=TRUE;CN=Fred:http
 s://epanews.fr/profile/MARTINEZFREDERIC
ATTENDEE;ROLE=REQ-PARTICIPANT;PARTSTAT=ACCEPTED;RSVP=TRUE;CN="SEBBAG Y
 VONNE":https://epanews.fr/profile/SEBBAGYVONNE
END:VEVENT
END:VCALENDAR
