BEGIN:VCALENDAR
PRODID:NingEventWidget-v1
VERSION:2.0
METHOD:PUBLISH
BEGIN:VTIMEZONE
TZID:Europe/Paris
X-LIC-LOCATION:Europe/Paris
BEGIN:DAYLIGHT
TZOFFSETFROM:+0100
TZOFFSETTO:+0200
TZNAME:CEST
DTSTART:19700329T020000
RRULE:FREQ=YEARLY;BYMONTH=3;BYDAY=-1SU
END:DAYLIGHT
BEGIN:STANDARD
TZOFFSETFROM:+0200
TZOFFSETTO:+0100
TZNAME:CET
DTSTART:19701025T030000
RRULE:FREQ=YEARLY;BYMONTH=10;BYDAY=-1SU
END:STANDARD
END:VTIMEZONE
BEGIN:VEVENT
UID:2485226:Event:322033
DTSTAMP:20260420T080757Z
SUMMARY:Soirée de contes avec Henri GOUGAUD
DESCRIPTION:Fastival des Nouveaux Mondes 2011\ndu 6 au 14 juillet à C
 assis\n \n jeudi 7 juillet\n20h SOIREE exceptionnelle de CONTES avec
  les « Contes des origines » racontés avec la verve carcassonnais
 e de HENRI GOUGAUD (poète, écrivain, conteur : « le livre des che
 mins », « les 7 plumes de l’aigle » parmi bien d’autres ouvr
 ages…) Les contes ont pour berceau la nuit des temps. Ils savent tou
 t de nous. Ils racontent l’âme humaine et l’intimité des êtres 
 et savent ce que nous ignorons… 28€/25€ adhérent ou famille. Si
 gnature de ses livres et Buffet possible sur place.\n\nPour plus d'inf
 ormation, aller sur https://epanews.fr/events/soiree-de-contes-avec-he
 nri
DTSTART;TZID=Europe/Paris:20110707T193000
DTEND;TZID=Europe/Paris:20110707T220000
CATEGORIES:tous
LOCATION:CASSIS 13260
WEBSITE:http://www.associationlesnouveauxmondes.com
URL:http://www.associationlesnouveauxmondes.com
CONTACT:C Culturel 04 42 01 77 73/asso 06 14 65 04 48
ORGANIZER;CN="Association Les Nouveaux Mondes":https://epanews.fr/prof
 ile/AssociationLesNouveauxMondes
ATTACH;FMTTYPE="image/jpeg":http://storage.ning.com/topology/rest/1.0/
 file/get/1662422530?profile=original
ATTENDEE;ROLE=REQ-PARTICIPANT;PARTSTAT=ACCEPTED;RSVP=TRUE;CN="Associat
 ion Les Nouveaux Mondes":https://epanews.fr/profile/AssociationLesNouv
 eauxMondes
END:VEVENT
END:VCALENDAR
