BEGIN:VCALENDAR
PRODID:NingEventWidget-v1
VERSION:2.0
METHOD:PUBLISH
BEGIN:VTIMEZONE
TZID:Europe/Paris
X-LIC-LOCATION:Europe/Paris
BEGIN:DAYLIGHT
TZOFFSETFROM:+0100
TZOFFSETTO:+0200
TZNAME:CEST
DTSTART:19700329T020000
RRULE:FREQ=YEARLY;BYMONTH=3;BYDAY=-1SU
END:DAYLIGHT
BEGIN:STANDARD
TZOFFSETFROM:+0200
TZOFFSETTO:+0100
TZNAME:CET
DTSTART:19701025T030000
RRULE:FREQ=YEARLY;BYMONTH=10;BYDAY=-1SU
END:STANDARD
END:VTIMEZONE
BEGIN:VEVENT
UID:2485226:Event:165053
DTSTAMP:20260422T120048Z
SUMMARY:Soirée Bhajans avec Claude brame
DESCRIPTION:Soirée » Bhajans » proposée par Claude Brame pour cél
 ébrer les fêtes et la fin d’année. A l’origine chants dévotion
 nels indiens,\nici dans un contexte universel. Chants en sanskrit, tib
 étain, hébreu et français. Expérience du cœur, de la vibration, d
 e la résonance et de l’énergie du groupe. Accessibles à tous, ne 
 demande aucune performance vocale. Claude Brame 06 60 16 25 44. (Villa
  Montvert traverse du château).\nSuivie d’une collation que chacun 
 pourra apporter. Participation 10€/8€ adhérent.\n\nPour plus d'in
 formation, aller sur https://epanews.fr/events/soiree-bhajans-avec-cla
 ude
DTSTART;TZID=Europe/Paris:20101215T193000
DTEND;TZID=Europe/Paris:20101215T210000
CATEGORIES:13260
LOCATION:cassis 13
WEBSITE:http://associationlesnouveauxmondes.com
URL:http://associationlesnouveauxmondes.com
CONTACT:06 14 65 04 48
ORGANIZER;CN="Association Les Nouveaux Mondes":https://epanews.fr/prof
 ile/AssociationLesNouveauxMondes
ATTACH;FMTTYPE="image/jpeg":
ATTENDEE;ROLE=REQ-PARTICIPANT;PARTSTAT=ACCEPTED;RSVP=TRUE;CN="Associat
 ion Les Nouveaux Mondes":https://epanews.fr/profile/AssociationLesNouv
 eauxMondes
END:VEVENT
END:VCALENDAR
