BEGIN:VCALENDAR
PRODID:NingEventWidget-v1
VERSION:2.0
METHOD:PUBLISH
BEGIN:VTIMEZONE
TZID:Europe/Paris
X-LIC-LOCATION:Europe/Paris
BEGIN:DAYLIGHT
TZOFFSETFROM:+0100
TZOFFSETTO:+0200
TZNAME:CEST
DTSTART:19700329T020000
RRULE:FREQ=YEARLY;BYMONTH=3;BYDAY=-1SU
END:DAYLIGHT
BEGIN:STANDARD
TZOFFSETFROM:+0200
TZOFFSETTO:+0100
TZNAME:CET
DTSTART:19701025T030000
RRULE:FREQ=YEARLY;BYMONTH=10;BYDAY=-1SU
END:STANDARD
END:VTIMEZONE
BEGIN:VEVENT
UID:2485226:Event:11952
DTSTAMP:20260420T063550Z
SUMMARY:Soirée à Thème
DESCRIPTION:Sur Marseille, soirée à Thèmes à\nL'Oasis des Délices
  56 cours julien 13006 Marseille\nMétro : ligne 2, station Notre dame
  du Mont Cours Julien\nParking à proximité de 630 places ouvert 24h/
 24\n\nLe thème\nLe tarot des archanges, une nouvelle méthode inédit
 e sur le tarot, venez voir, vous serez étonnés (es)\nCe tarot repose
  sur les vibrations des Archanges, autres façon de faire les cartes, 
 de compter et autres résultats\n\nPour plus d'information, aller sur 
 https://epanews.fr/events/soiree-a-theme
DTSTART;TZID=Europe/Paris:20090905T200000
DTEND;TZID=Europe/Paris:20090905T230000
CATEGORIES:13
LOCATION:Conférence
WEBSITE:http://www.kherialogie.com
URL:http://www.kherialogie.com
CONTACT:0650312472
ORGANIZER;CN="Patrick Bucchioni":https://epanews.fr/profile/Bucchioni
ATTACH;FMTTYPE="image/jpeg":
ATTENDEE;ROLE=REQ-PARTICIPANT;PARTSTAT=ACCEPTED;RSVP=TRUE;CN=martine:h
 ttps://epanews.fr/profile/martinefreeman
ATTENDEE;ROLE=REQ-PARTICIPANT;PARTSTAT=ACCEPTED;RSVP=TRUE;CN="Patrick 
 Bucchioni":https://epanews.fr/profile/Bucchioni
END:VEVENT
END:VCALENDAR
