BEGIN:VCALENDAR
PRODID:NingEventWidget-v1
VERSION:2.0
METHOD:PUBLISH
BEGIN:VTIMEZONE
TZID:Europe/Paris
X-LIC-LOCATION:Europe/Paris
BEGIN:DAYLIGHT
TZOFFSETFROM:+0100
TZOFFSETTO:+0200
TZNAME:CEST
DTSTART:19700329T020000
RRULE:FREQ=YEARLY;BYMONTH=3;BYDAY=-1SU
END:DAYLIGHT
BEGIN:STANDARD
TZOFFSETFROM:+0200
TZOFFSETTO:+0100
TZNAME:CET
DTSTART:19701025T030000
RRULE:FREQ=YEARLY;BYMONTH=10;BYDAY=-1SU
END:STANDARD
END:VTIMEZONE
BEGIN:VEVENT
UID:2485226:Event:2919525
DTSTAMP:20260420T175731Z
SUMMARY:Soirées Atelier/Conférence Tantra-Tantrisme
DESCRIPTION:L’esprit de nos ateliers/conférences sur le Tantra (ou 
 Tantrisme) vise à mieux comprendre et à expérimenter « l’art » 
 de tisser des relations nourrissantes et de cultiver l’amour de soi.
  Le tantrisme est une pratique inspirée de la religion hindouiste. Su
 ivre la voie du Tantra c’est être plus présent à soi et à l’au
 tre, être présent à ce qui est, l'accueillir, sans jugement, sans a
 ttente. Le Tantra est un art de vivre et d’aimer pour réintroduire 
 le sens du “sacré” dans sa vie amoureuse et affective, ainsi que 
 dans sa sexualité. Comme le souligne Carl Gustav Jung, « le sacré, 
 le spirituelle, nous coupe des pensées et des sensations ordinaires p
 our nous relier à une dimension plus vaste de l'existence, aux divins
  en chacun de nous ».\nNous vous proposons le temps d’une soirée, 
 de découvrir et d’explorer la pratique du Tantra à travers de peti
 ts exercices tantriques et des temps de parole pour s’écouter et é
 changer autour d’un repas partagé. \nPour 6 soirées, de janvier à
  juin 2018, 6 thèmes propre à l’esprit tantrique de la non-dualit
 … \npour une invitation à suspendre le temps, pour lâcher-prise, 
 pour être avec ce qui se passe « juste en plein état de conscience 
 », pour calmer le mental, ouvrir son cœur, habiter son corps, sa mai
 son intérieur, et faire circuler l’énergie de vie, l’énergie se
 xuelle.\nLieu : La Bastide Blanche - Cabriès (13)\nJeudi 18 janvier 2
 018 : ouverture du cœur\nJeudi 8 février 2018 : ouverture du cœur e
 t circulation de l’énergie sexuelle\n(changement de lieu : Le Clos 
 du Bien-Être à Aix-en-Provence)\nJeudi 8 mars 2018 : ancrage, prése
 nce, conscience\nJeudi 5 avril 2018 : union des énergies du féminin 
 et du masculin\nJeudi 3 mai 2018 : puissance et vulnérabilité\nJeudi
  24 mai 2018 (sous-réserve) : thème à définir\nJeudi 14 juin 2018 
 : sexualité sacré, sexualité divine\nLes horaires sont de 19h30 à 
 21h30. Les thèmes proposés sont indépendants les uns des autres (y 
 compris sur l’ouverture du cœur).\nTarif : 12 euros/personne\n\nPou
 r plus d'information, aller sur https://epanews.fr/events/soir-es-atel
 ier-conf-rence-tantra-tantrisme
DTSTART;TZID=Europe/Paris:20180118T193000
DTEND;TZID=Europe/Paris:20180118T213000
CATEGORIES:13
LOCATION:La Bastide Blanche
WEBSITE:http://la-bastide-blanche.com/contact-et-acces
URL:http://la-bastide-blanche.com/contact-et-acces
CONTACT:06-15-43-08-18
ORGANIZER;CN="Jean-Michel (Dançarino)":https://epanews.fr/profile/Dan
 carino
ATTACH;FMTTYPE="image/jpeg":http://storage.ning.com/topology/rest/1.0/
 file/get/1663709322?profile=original
ATTENDEE;ROLE=REQ-PARTICIPANT;PARTSTAT=ACCEPTED;RSVP=TRUE;CN=Roggers:h
 ttps://epanews.fr/profile/ROGGERS
ATTENDEE;ROLE=REQ-PARTICIPANT;PARTSTAT=ACCEPTED;RSVP=TRUE;CN=Anna:http
 s://epanews.fr/profile/Beccaria
ATTENDEE;ROLE=REQ-PARTICIPANT;PARTSTAT=ACCEPTED;RSVP=TRUE;CN="Jean-Mic
 hel (Dançarino)":https://epanews.fr/profile/Dancarino
END:VEVENT
END:VCALENDAR
