BEGIN:VCALENDAR
PRODID:NingEventWidget-v1
VERSION:2.0
METHOD:PUBLISH
BEGIN:VTIMEZONE
TZID:Europe/Paris
X-LIC-LOCATION:Europe/Paris
BEGIN:DAYLIGHT
TZOFFSETFROM:+0100
TZOFFSETTO:+0200
TZNAME:CEST
DTSTART:19700329T020000
RRULE:FREQ=YEARLY;BYMONTH=3;BYDAY=-1SU
END:DAYLIGHT
BEGIN:STANDARD
TZOFFSETFROM:+0200
TZOFFSETTO:+0100
TZNAME:CET
DTSTART:19701025T030000
RRULE:FREQ=YEARLY;BYMONTH=10;BYDAY=-1SU
END:STANDARD
END:VTIMEZONE
BEGIN:VEVENT
UID:2485226:Event:2927954
DTSTAMP:20260425T001939Z
SUMMARY:Soirée « Zoom sur » : le travail de Katie Byron, mondialeme
 nt reconnue
DESCRIPTION:Les Z'ateliers de Catherine  vous invitent à venir d
 écouvrir « Le travail » de Katie Byron, méthode d’auto-questio
 nnement reconnue mondialement. 4 questions simples et un retournement 
 qui permettent de découvrir le contraire de ce que l’on croit et de
  se dégager de ses pensées négatives.\nKatie Byron propose un « t
 ravail » simple, surprenant et extrêmement puissant : un autre rega
 rd sur notre présent dont l'objectif n'est rien moins que la fin de l
 a souffrance et le début de l'amour de soi...\nIntervenant : Dominiq
 ue PROUDHON, Conférencier, Médiateur professionnel\n - Extraits v
 idéos de Katie en action\n- Durée : 20 h – 22 h (arriver si pos
 sible 15 mn avant)\n- P.A.F. : 10€ / 8€ (Adhérent) / 5€ (étudi
 ant – demandeur d’emploi)\nEt pour rester dans l'ambiance, la soi
 rée se poursuivra sur place, autour d'un verre et de discussions anim
 ées avec ce que chacun aura amené (boisson ou quelque chose à grign
 oter).\nInfos & réservation : www.leszateliersdecatherine.fr\n\nPour 
 plus d'information, aller sur https://epanews.fr/events/soir-e-zoom-su
 r-le-travail-de-katie-byron-mondialement-reconnue
DTSTART;TZID=Europe/Paris:20180215T180000
DTEND;TZID=Europe/Paris:20180215T220000
CATEGORIES:30
LOCATION:LE ZIGOM
WEBSITE:
URL:
CONTACT:06 16 41 56 63
ORGANIZER;CN="LAURENT Catherine":https://epanews.fr/profile/LAURENTCat
 herine
ATTACH;FMTTYPE="image/jpeg":http://storage.ning.com/topology/rest/1.0/
 file/get/1663718539?profile=original
ATTENDEE;ROLE=REQ-PARTICIPANT;PARTSTAT=ACCEPTED;RSVP=TRUE;CN="LAURENT 
 Catherine":https://epanews.fr/profile/LAURENTCatherine
END:VEVENT
END:VCALENDAR
