BEGIN:VCALENDAR
PRODID:NingEventWidget-v1
VERSION:2.0
METHOD:PUBLISH
BEGIN:VTIMEZONE
TZID:Europe/Paris
X-LIC-LOCATION:Europe/Paris
BEGIN:DAYLIGHT
TZOFFSETFROM:+0100
TZOFFSETTO:+0200
TZNAME:CEST
DTSTART:19700329T020000
RRULE:FREQ=YEARLY;BYMONTH=3;BYDAY=-1SU
END:DAYLIGHT
BEGIN:STANDARD
TZOFFSETFROM:+0200
TZOFFSETTO:+0100
TZNAME:CET
DTSTART:19701025T030000
RRULE:FREQ=YEARLY;BYMONTH=10;BYDAY=-1SU
END:STANDARD
END:VTIMEZONE
BEGIN:VEVENT
UID:2485226:Event:1052652
DTSTAMP:20260421T171949Z
SUMMARY:Soirée Tantra Paris 15 ème - Animée par Laurent LACOSTE
DESCRIPTION:Soirée Tantra à Paris 75015animée par Laurent Lacoste\n
 Le Tantra est un ensemble de pratiques destinées au développement de
  la conscience. Par la non-dualité qui le sous-tend, il transcende le
 s notions de bien et de mal, et par là, dépasse toute forme de jugem
 ent, pour ne laisser place qu'à l'expérience. \nJe vous invite donc
  à venir faire cette expérience avec moi, jeudi 6 décembre 2012. La
  soirée débutera à 20 heures mais il est préférable d'arriver à 
 19h45.Participation :  20 euros\nPour vous inscrire et obtenir l'adre
 sse et les codes,  appelez moi au 06 48 38 21 89. Pour plus de ren
 seignements, vous pouvez consulter mon site directement ou m'envoyer u
 n email : spanda.ayurveda@gmail.comhttp://www.spanda-ayurveda.com/Nouv
 eau_Spanda/Soirees_Tantra_Paris.htmlou  consulter le site de Silent M
 ind Tantra : http://www.silentmindtantra.com\n\nPour plus d'informati
 on, aller sur https://epanews.fr/events/soir-e-tantra-paris-15-me-anim
 -e-par-laurent-lacoste
DTSTART;TZID=Europe/Paris:20121206T194500
DTEND;TZID=Europe/Paris:20121206T224500
CATEGORIES:75
LOCATION:Paris 15ème
WEBSITE:http://www.spanda-ayurveda.com/Nouveau_Spanda/Soirees_Tantra_P
 aris.html
URL:http://www.spanda-ayurveda.com/Nouveau_Spanda/Soirees_Tantra_Paris
 .html
CONTACT:06 48 38 21 89
ORGANIZER;CN="Laurent Lacoste":https://epanews.fr/profile/lacostela
ATTACH;FMTTYPE="image/jpeg":http://storage.ning.com/topology/rest/1.0/
 file/get/1662709682?profile=original
ATTENDEE;ROLE=REQ-PARTICIPANT;PARTSTAT=ACCEPTED;RSVP=TRUE;CN="Laurent 
 Lacoste":https://epanews.fr/profile/lacostela
END:VEVENT
END:VCALENDAR
