BEGIN:VCALENDAR
PRODID:NingEventWidget-v1
VERSION:2.0
METHOD:PUBLISH
BEGIN:VTIMEZONE
TZID:Europe/Paris
X-LIC-LOCATION:Europe/Paris
BEGIN:DAYLIGHT
TZOFFSETFROM:+0100
TZOFFSETTO:+0200
TZNAME:CEST
DTSTART:19700329T020000
RRULE:FREQ=YEARLY;BYMONTH=3;BYDAY=-1SU
END:DAYLIGHT
BEGIN:STANDARD
TZOFFSETFROM:+0200
TZOFFSETTO:+0100
TZNAME:CET
DTSTART:19701025T030000
RRULE:FREQ=YEARLY;BYMONTH=10;BYDAY=-1SU
END:STANDARD
END:VTIMEZONE
BEGIN:VEVENT
UID:2485226:Event:2926969
DTSTAMP:20260424T154949Z
SUMMARY:Soirée Sexualité Sacrée
DESCRIPTION:Vendredi 16 Février 2018 : Soirée Sexualité Sacrée\nOn
  vous propose chez nous à Nanterre : un repas commun le soir ( amener
  de quoi partager ). L' atelier se fera en fonction de la composition 
 des participants et nos / vos envies du moment. Le champ est vaste : r
 elationnel tantrique , \" Méditation Orgasmique \" ... commencera à 
 : 20h45 , fin vers 24h .\nParticipation 10 € pour la soirée par per
 sonne ; pour 3 Couples ou Duo H/F maximum, en plus de nous. Sommes due
  même si vous ne venez pas à partir du moment ou vous avez été acc
 epté. Venir avec 2 grandes serviettes , paréo et votre huile de mass
 age préférée ( dans le bon flacon ) Postulez si cela vous tente ou 
 pour avoir plus d'infos au : 06 60 69 09 25 Bruno et Denise\n\n\nPour 
 plus d'information, aller sur https://epanews.fr/events/soir-e-sexuali
 t-sacr-e
DTSTART;TZID=Europe/Paris:20180216T200000
DTEND;TZID=Europe/Paris:20180216T234500
CATEGORIES:92
LOCATION:chez nous
WEBSITE:
URL:
CONTACT:0660690925
ORGANIZER;CN="Bruno CECCARELLI":https://epanews.fr/profile/CECCARELLI
ATTACH;FMTTYPE="image/jpeg":
ATTENDEE;ROLE=REQ-PARTICIPANT;PARTSTAT=ACCEPTED;RSVP=TRUE;CN="Bruno CE
 CCARELLI":https://epanews.fr/profile/CECCARELLI
END:VEVENT
END:VCALENDAR
