BEGIN:VCALENDAR
PRODID:NingEventWidget-v1
VERSION:2.0
METHOD:PUBLISH
BEGIN:VTIMEZONE
TZID:Europe/Paris
X-LIC-LOCATION:Europe/Paris
BEGIN:DAYLIGHT
TZOFFSETFROM:+0100
TZOFFSETTO:+0200
TZNAME:CEST
DTSTART:19700329T020000
RRULE:FREQ=YEARLY;BYMONTH=3;BYDAY=-1SU
END:DAYLIGHT
BEGIN:STANDARD
TZOFFSETFROM:+0200
TZOFFSETTO:+0100
TZNAME:CET
DTSTART:19701025T030000
RRULE:FREQ=YEARLY;BYMONTH=10;BYDAY=-1SU
END:STANDARD
END:VTIMEZONE
BEGIN:VEVENT
UID:2485226:Event:2835086
DTSTAMP:20260420T183427Z
SUMMARY:Soirée: Pourquoi tout le monde veut-il devenir medium ?
DESCRIPTION:Inscription obligatoire auprès de Source du bonheur au 06
  77 16 31 11 Participation 12€  Soirée discussion animée par Marie
  Guerreiro médium de naissance   La soirée se déroulera autour de 
 nos perceptions naturelles et de leur évolution possible.  Au fond à
  quoi sert la médiumnité ?\n\nPour plus d'information, aller sur htt
 ps://epanews.fr/events/soir-e-pourquoi-tout-le-monde-veut-il-devenir-m
 edium
DTSTART;TZID=Europe/Paris:20170616T190000
DTEND;TZID=Europe/Paris:20170616T210000
CATEGORIES:34
LOCATION:montpellier centre
WEBSITE:http://www.sourcedubonheur.fr
URL:http://www.sourcedubonheur.fr
CONTACT:0677163111
ORGANIZER;CN=sb34:https://epanews.fr/profile/sb34
ATTACH;FMTTYPE="image/jpeg":http://storage.ning.com/topology/rest/1.0/
 file/get/1663661841?profile=original
ATTENDEE;ROLE=REQ-PARTICIPANT;PARTSTAT=ACCEPTED;RSVP=TRUE;CN=sb34:http
 s://epanews.fr/profile/sb34
END:VEVENT
END:VCALENDAR
