BEGIN:VCALENDAR
PRODID:NingEventWidget-v1
VERSION:2.0
METHOD:PUBLISH
BEGIN:VTIMEZONE
TZID:Europe/Paris
X-LIC-LOCATION:Europe/Paris
BEGIN:DAYLIGHT
TZOFFSETFROM:+0100
TZOFFSETTO:+0200
TZNAME:CEST
DTSTART:19700329T020000
RRULE:FREQ=YEARLY;BYMONTH=3;BYDAY=-1SU
END:DAYLIGHT
BEGIN:STANDARD
TZOFFSETFROM:+0200
TZOFFSETTO:+0100
TZNAME:CET
DTSTART:19701025T030000
RRULE:FREQ=YEARLY;BYMONTH=10;BYDAY=-1SU
END:STANDARD
END:VTIMEZONE
BEGIN:VEVENT
UID:2485226:Event:1150092
DTSTAMP:20260420T054413Z
SUMMARY:Soirée partage Reiki
DESCRIPTION:Venez partager avec nous  aux énergies reiki et ses bie
 nfaits avec des praticiens reiki que vous soyez déjà praticiens (cel
 a quelque soit votre niveau d'initiation) ou non initiés.\nNous ouvro
 ns une nouvelle ère de partage dans le service, au sein de \"coeur à
  corps\", une fois par mois. Nous souhaitons que de plus en plus d'ind
 ividus puissent connaitre le bonheur mais surtout vivre la rencontre a
 vec cette énergie bienfaisante dans le respect de notre être vérita
 ble.  Vendredi 15 février 2013 Accueil à 18h45 19h - 21h\n\nPour pl
 us d'information, aller sur https://epanews.fr/events/soir-e-partage-r
 eiki
DTSTART;TZID=Europe/Paris:20130215T190000
DTEND;TZID=Europe/Paris:20130215T210000
CATEGORIES:95
LOCATION:Pontoise
WEBSITE:http://www.coeursacorps.com/activit%C3%A9s/soir%C3%A9e-partage
 -reiki/
URL:http://www.coeursacorps.com/activit%C3%A9s/soir%C3%A9e-partage-rei
 ki/
CONTACT:0130320346
ORGANIZER:Nadia Poullain et Philippe Mendy
ATTACH;FMTTYPE="image/jpeg":http://storage.ning.com/topology/rest/1.0/
 file/get/1662751200?profile=original
ATTENDEE;ROLE=REQ-PARTICIPANT;PARTSTAT=ACCEPTED;RSVP=TRUE;CN="Nadia Po
 ullain":https://epanews.fr/profile/NadiaPoullain
END:VEVENT
END:VCALENDAR
